BEGIN:VCALENDAR
VERSION:2.0
PRODID:-//Mosoyoga Dunakeszi - ECPv6.10.1.1//NONSGML v1.0//EN
CALSCALE:GREGORIAN
METHOD:PUBLISH
X-WR-CALNAME:Mosoyoga Dunakeszi
X-ORIGINAL-URL:https://www.elmenyfestes.com
X-WR-CALDESC:Events for Mosoyoga Dunakeszi
REFRESH-INTERVAL;VALUE=DURATION:PT1H
X-Robots-Tag:noindex
X-PUBLISHED-TTL:PT1H
BEGIN:VTIMEZONE
TZID:Europe/Paris
BEGIN:DAYLIGHT
TZOFFSETFROM:+0100
TZOFFSETTO:+0200
TZNAME:CEST
DTSTART:20260329T010000
END:DAYLIGHT
BEGIN:STANDARD
TZOFFSETFROM:+0200
TZOFFSETTO:+0100
TZNAME:CET
DTSTART:20261025T010000
END:STANDARD
TZID:UTC
BEGIN:STANDARD
TZOFFSETFROM:+0000
TZOFFSETTO:+0000
TZNAME:UTC
DTSTART:20260101T000000
END:STANDARD
END:VTIMEZONE
BEGIN:VEVENT
DTSTART;TZID=Europe/Paris:20260419T100000
DTEND;TZID=Europe/Paris:20260419T120000
DTSTAMP:20260422T214742
CREATED:20250817T131921Z
LAST-MODIFIED:20260309T070838Z
UID:6709-1776592800-1776600000@www.elmenyfestes.com
SUMMARY:Cinkék
DESCRIPTION:Tedd kosárba\, és alkosd meg te is!\n\n			\n				\n				\n				\n				\n				\n				\n				\n					\n	\n	\n		\n		\n    \n                                    \n                    1                \n                            \n                    2                \n                            \n                    3                \n                            \n                    4                \n                            \n                    5                \n                        \n\n\n		Kosárba teszem\n\n			\n\n	\n\n				\n			\n			\n				\n				\n				\n				\n				\n				\n				\n				\n				\n				\n					\n					\n						\n						Felnőtteknek \n					\n				\n			\n				\n				\n				\n				\n				\n					\n					\n						\n						40x50cm\n					\n				\n			\n				\n				\n				\n				\n				\n					\n					\n						\n						3 óra\n					\n				\n			\n				\n				\n				\n				\n				\n					\n					\n						\n						12.490 Ft\n					\n				\n			\n				\n				\n				\n				\n				\n					\n					\n						\n						2120 Dunakeszi\, Katonadomb utca 11. \n					\n				\n			\n				\n				\n				\n				\n				Leírás\n			\n				\n				\n				\n				\n				Egyéni és Páros festés vagy anya- lánya program. \nGyere el\, és engedd szabadjára a benned rejlő művészt!Ezen a varázslatos hangulatú festményen két kedves kis Cinke lesz az ihletforrásunk\, akik a hófehér télben\, egy száraz kórón üldögélve csivitelnek – mintha csak a tavaszt várnák. 🌸 \nNem kell\, hogy tudj festeni – lépésről lépésre vezetünk végig a folyamaton\, miközben kellemes zene\, jó hangulat és sok nevetés kíséri az alkotást. 🎶 \n👉 Felnőttek és gyerekek együtt is részt vehetnek\, így tökéletes családi program vagy baráti kikapcsolódás is lehet.Szuper páros festő program is lehet\, így a képet elfelezük\, hogy ne két egyforma képetek legyen otthon\, hanem egymást kiegészítő festmények.A végén pedig hazaviheted a saját\, szívvel-lélekkel festett Cinkés téli csodádat! 💙 \n🎨 Ecsetet a kézbe\, és varázsoljuk együtt színesebbé a telet! \nMinden felszerelést bíztosítok!  \n\nKötényt\, ecsetet\nkézfertőtlenítőt\nbekészítek üditőket\, sütiket és pogácsát is.\n\n			\n				\n				\n				\n				\n				Ha már elmultál 18 éves\, egy pohár borral is megkínállak. Neked csak a jó kedvedet kell hoznod! \nPrivát festés: \nEgy egyéni festésen csak te\, és akiket elhívsz lesznek jelen. Ha szeretnéd ezt a képet saját keretek közt megfesteni\, akkor kérlek vedd fel velünk a kapcsolatot! \nAkril festék tudnivalók \nAz akrilfesték vízzel hígítható\, szagtalan festék\, de műanyagra keményedik ha megszárad.Nagy előnye\, hogy nem fog leázni és nem kopik meg a színe\, jó pár év múlva is megőrzi eredeti fényét.Allergén mentes\, bárki használhatja\, kisgyermekek és kismamák is.A ruhádból frissen még kijön\, rászáradva sajnos már nem\, ezért érdemes olyan öltözéket választani\, amit nem sajnálsz. \nFestés menete: \nA kiválasztott festményt jól látható helyre ki fogom függeszteni mintának\, de ettől te eltérhetsz a saját ízlésed szerint. A te saját műved mindig sokkal szebb.Együtt fogunk haladni\, azaz én is elkezdem megfesteni a képet egy nagy állványon\, minden mozdulatot megmutatok\, így könnyen leutánozhatod és el tudod készíteni a saját képedet. Lehetőséged van más színeket is kérni\, hogy egy egyedi\, különleges képet alkothass.Ha lemaradsz vagy elakadsz\, akkor sincs semmi gond\, szólsz nekem\, és szívesen segítek.Mindenkinek sikerül befejezni a képet\, így biztos lehetsz benne\, hogy neked is sikerülni fog egy remekművet alkotni. \nA helyek száma korlátozott\, ezért kérlek\, jelentkezz be. \n(Az időpontban a változtatás jogát fenntartjuk! A festés elmaradása esetén az árat visszatérítjük. Megérteseteket köszönjük!) \n			\n				További információk a felnőtt festésről\n			\n			\n				\n				\n				\n				\n			\n				\n				\n			\nKirály IldikóSziasztok! Engem Király Ildikónak hívnak\, és közel egy évtizede foglalkozom festéssel. Majdnem 5 éve nyitottam meg élményfestő stúdiómat Dunakeszin\, ahol nap mint nap foglalkozok festeni vágyó\, lelkes emberekkel. A festés mellett jógaoktatással is foglalkozom. Úgy gondolom\, hogy ez a két terület rendkívül közel áll egymáshoz\, és nagyon jól ki is egészítik egymást. \nNézz szét eseményeim között\, ha van kedved eljönni festeni! 🙂
URL:https://www.elmenyfestes.com/esemeny/cinkek/
LOCATION:Katonadomb utca 11.\, Katonadomb utca 11.\, Dunakeszi\, 2011\, Magyarország
CATEGORIES:Felnőtteknek és gyerekeknek,Festés
ATTACH;FMTTYPE=image/jpeg:https://www.elmenyfestes.com/wp-content/uploads/2023/05/IMG_1326.jpg
END:VEVENT
BEGIN:VEVENT
DTSTART;TZID=Europe/Paris:20260419T110000
DTEND;TZID=Europe/Paris:20260419T130000
DTSTAMP:20260422T214743
CREATED:20250331T063841Z
LAST-MODIFIED:20260406T070812Z
UID:6048-1776596400-1776603600@www.elmenyfestes.com
SUMMARY:Lajhár
DESCRIPTION:Tedd kosárba\, és hozd el gyermeked te is festeni! \n			\n			\n				\n				\n				\n				\n				\n				\n				\n				\n				\n				\n					\n					\n						\n						Gyerekeknek\n					\n				\n			\n				\n				\n				\n				\n				\n					\n					\n						\n						40x30cm \n					\n				\n			\n				\n				\n				\n				\n				\n					\n					\n						\n						2.5 óra \n					\n				\n			\n				\n				\n				\n				\n				\n					\n					\n						\n						9800 Ft \n					\n				\n			\n				\n				\n				\n				\n				\n					\n					\n						\n						2120 Dunakeszi\, Katonadomb utca 11. \n					\n				\n			\n				\n				\n				\n				\n				Leírás\n			\n				\n				\n				\n				\n				A Lajhár egy olyan barátságos társ\, aki mindig mosolyog és lassúsága nagyon vicces és örömöt szerez a gyerekeknek. Ajándékozd gyermekednek egy élményfestést\, ahol ezt a bájos\, színes lajhárt festik meg! A mosolygós arc és a vibráló színek garantáltan elnyerik majd a kicsik tetszését! \nMinden felszerelést bíztosítok!  \n\nKötényt\, ecsetet\nkézfertőtlenítőt\nbekészítek üditőket\, sütiket és pogácsát is.\n\nSzülőként akár te is csatlakozhatsz\, és részetek lehet egy szuper családi kikapcsolódásban\, ha te is megfested a képet gyermekeddel együtt – ilyenkor magadnak is kell jegyet foglalnod \n			\n				\n				\n				\n				\n				Festés menete: \nA kiválasztott festményt jól látható helyre ki fogom függeszteni mintának\, de a gyerekek eltérhetnek ettől a saját ízlésük szerint. A ti művetek mindig sokkal szebb 🙂 \nEgyütt fogunk haladni\, azaz én is elkezdem megfesteni a képet egy nagy állványon\, minden mozdulatot megmutatok\, így könnyen leutánozhatják és el tudják készíteni a saját képüket. Lehetősége van a gyerekeknek más színekkel is dolgozni\, hogy egy egyedi\, különleges képet alkothasson\, pont olyat ami neki tetszik. \nHa lemaradás\, vagy elakadás van\, megyek és segítek 🙂Mindenkinek sikerül befejezni a képet\, így biztos lehetsz benne\, hogy gyeremeked egy fülig érő mosollyal és egy remekművel fog távozni! \nA helyek száma korlátozott\, ezért kérlek\, jelentkezz be. \n(Az időpontban a változtatás jogát fenntartjuk! A festés elmaradása esetén az árat visszatérítjük. Megérteseteket köszönjük!) \n			\n				További információk a gyermekfestésről\n			\n			\n				\n				\n				\n				\n			\n				\n				\n			\nKirály IldikóSziasztok! Engem Király Ildikónak hívnak\, és közel egy évtizede foglalkozom festéssel. Majdnem 5 éve nyitottam meg élményfestő stúdiómat Dunakeszin\, ahol nap mint nap foglalkozok festeni vágyó\, lelkes emberekkel. A festés mellett jógaoktatással is foglalkozom. Úgy gondolom\, hogy ez a két terület rendkívül közel áll egymáshoz\, és nagyon jól ki is egészítik egymást. \nNézz szét eseményeim között\, ha van kedved eljönni festeni! 🙂
URL:https://www.elmenyfestes.com/esemeny/lajhar/
LOCATION:Katonadomb utca 11.\, Katonadomb utca 11.\, Dunakeszi\, 2011\, Magyarország
CATEGORIES:Gyerekeknek
ATTACH;FMTTYPE=image/png:https://www.elmenyfestes.com/wp-content/uploads/2025/03/lajhar.png
END:VEVENT
BEGIN:VEVENT
DTSTART;TZID=Europe/Paris:20260419T130000
DTEND;TZID=Europe/Paris:20260419T160000
DTSTAMP:20260422T214743
CREATED:20250817T113552Z
LAST-MODIFIED:20260406T065935Z
UID:6691-1776603600-1776614400@www.elmenyfestes.com
SUMMARY:Virágzó tavaszi fák
DESCRIPTION:Tedd kosárba\, és hozd el gyermeked te is festeni! \n			\n			\n				\n				\n				\n				\n				\n				\n				\n				\n				\n				\n					\n					\n						\n						Gyerekeknek\n					\n				\n			\n				\n				\n				\n				\n				\n					\n					\n						\n						30x40cm \n					\n				\n			\n				\n				\n				\n				\n				\n					\n					\n						\n						1.5 óra \n					\n				\n			\n				\n				\n				\n				\n				\n					\n					\n						\n						9.800 Ft \n					\n				\n			\n				\n				\n				\n				\n				\n					\n					\n						\n						2120 Dunakeszi\, Katonadomb utca 11. \n					\n				\n			\n				\n				\n				\n				\n				Leírás\n			\n				\n				\n				\n				\n				Egyedi tervezés\, egyedi hátér\, semmi nincs előrajzolva\, fess szabadon ahogy te szeretnéd\, használhatsz bármilyen színt ami a te saját elképzelésed\, így teljesen egyedi festményt kapsz. Ajándékozd gyermekednek egy szuper szorakozást ahol a vibráló színek garantáltan elnyerik majd a kicsik tetszését! \nMinden felszerelést bíztosítok!  \n\nKötényt\, ecsetet\nkézfertőtlenítőt\nbekészítek üditőket\, sütiket és pogácsát is.\n\nSzülőként akár te is csatlakozhatsz\, és részetek lehet egy szuper családi kikapcsolódásban\, ha te is megfested a képet gyermekeddel együtt – ilyenkor magadnak is kell jegyet foglalnod \n			\n				\n				\n				\n				\n				Festés menete: \nA kiválasztott festményt jól látható helyre ki fogom függeszteni mintának\, de a gyerekek eltérhetnek ettől a saját ízlésük szerint. A ti művetek mindig sokkal szebb 🙂 \nEgyütt fogunk haladni\, azaz én is elkezdem megfesteni a képet egy nagy állványon\, minden mozdulatot megmutatok\, így könnyen leutánozhatják és el tudják készíteni a saját képüket. Lehetősége van a gyerekeknek más színekkel is dolgozni\, hogy egy egyedi\, különleges képet alkothasson\, pont olyat ami neki tetszik. \nHa lemaradás\, vagy elakadás van\, megyek és segítek 🙂Mindenkinek sikerül befejezni a képet\, így biztos lehetsz benne\, hogy gyeremeked egy fülig érő mosollyal és egy remekművel fog távozni! \nA helyek száma korlátozott\, ezért kérlek\, jelentkezz be. \n(Az időpontban a változtatás jogát fenntartjuk! A festés elmaradása esetén az árat visszatérítjük. Megérteseteket köszönjük!) \n			\n				További információk a gyermekfestésről\n			\n			\n				\n				\n				\n				\n			\n				\n				\n			\nKirály IldikóSziasztok! Engem Király Ildikónak hívnak\, és közel egy évtizede foglalkozom festéssel. Majdnem 5 éve nyitottam meg élményfestő stúdiómat Dunakeszin\, ahol nap mint nap foglalkozok festeni vágyó\, lelkes emberekkel. A festés mellett jógaoktatással is foglalkozom. Úgy gondolom\, hogy ez a két terület rendkívül közel áll egymáshoz\, és nagyon jól ki is egészítik egymást. \nNézz szét eseményeim között\, ha van kedved eljönni festeni! 🙂
URL:https://www.elmenyfestes.com/esemeny/szines-fak/
LOCATION:Katonadomb utca 11.\, Katonadomb utca 11.\, Dunakeszi\, 2011\, Magyarország
CATEGORIES:Felnőtteknek és gyerekeknek,Festés
ATTACH;FMTTYPE=image/png:https://www.elmenyfestes.com/wp-content/uploads/2025/01/szines-fa-vegeleges.png
END:VEVENT
BEGIN:VEVENT
DTSTART;TZID=UTC:20260419T140000
DTEND;TZID=UTC:20260419T170000
DTSTAMP:20260422T214743
CREATED:20241220T143228Z
LAST-MODIFIED:20260406T065051Z
UID:4161-1776607200-1776618000@www.elmenyfestes.com
SUMMARY:Szentjános Bogarak
DESCRIPTION:Tedd kosárba\, és hozd el gyermeked te is festeni! \n			\n			\n				\n				\n				\n				\n				\n				\n				\n				\n				\n				\n					\n					\n						\n						Gyerekeknek \n					\n				\n			\n				\n				\n				\n				\n				\n					\n					\n						\n						40x40cm \n					\n				\n			\n				\n				\n				\n				\n				\n					\n					\n						\n						2 óra \n					\n				\n			\n				\n				\n				\n				\n				\n					\n					\n						\n						11.490 Ft \n					\n				\n			\n				\n				\n				\n				\n				\n					\n					\n						\n						2120 Dunakeszi\, Katonadomb utca 11. \n					\n				\n			\n				\n				\n				\n				\n				Engedd szabadjára a gyermeked fantáziáját! A szentjánosbogarak festése során a kicsik saját kezűleg hozhatják létre ezt az absztrakt\, varázslatos éjszakai festményt. A festés közben gyermeked fejlesztheti a kézügyességét\, a színfelismerést és a kreativitását. Az elkészült kép egy értékes emlék lesz\, amelyet büszkén kihelyezhettek a szobájába. \nMinden felszerelést bíztosítok!  \n\nKötényt\, ecsetet\nkézfertőtlenítőt\nbekészítek üditőket\, sütiket és pogácsát is.\n\nSzülőként akár te is csatlakozhatsz\, és részetek lehet egy szuper családi kikapcsolódásban\, ha te is megfested a képet gyermekeddel együtt – ilyenkor magadnak is kell jegyet foglalnod \n			\n				\n				\n				\n				\n				Festés menete: \nA kiválasztott festményt jól látható helyre ki fogom függeszteni mintának\, de a gyerekek eltérhetnek ettől a saját ízlésük szerint. A ti művetek mindig sokkal szebb 🙂 \nEgyütt fogunk haladni\, azaz én is elkezdem megfesteni a képet egy nagy állványon\, minden mozdulatot megmutatok\, így könnyen leutánozhatják és el tudják készíteni a saját képüket. Lehetősége van a gyerekeknek más színekkel is dolgozni\, hogy egy egyedi\, különleges képet alkothasson\, pont olyat ami neki tetszik. \nHa lemaradás\, vagy elakadás van\, megyek és segítek 🙂Mindenkinek sikerül befejezni a képet\, így biztos lehetsz benne\, hogy gyeremeked egy fülig érő mosollyal és egy remekművel fog távozni! \nA helyek száma korlátozott\, ezért kérlek\, jelentkezz be. \n(Az időpontban a változtatás jogát fenntartjuk! A festés elmaradása esetén az árat visszatérítjük. Megérteseteket köszönjük!) \n			\n				További információk a gyermekfestésről\n			\n			\n				\n				\n				\n				\n			\n				\n				\n			\nKirály IldikóSziasztok! Engem Király Ildikónak hívnak\, és közel egy évtizede foglalkozom festéssel. Majdnem 5 éve nyitottam meg élményfestő stúdiómat Dunakeszin\, ahol nap mint nap foglalkozok festeni vágyó\, lelkes emberekkel. A festés mellett jógaoktatással is foglalkozom. Úgy gondolom\, hogy ez a két terület rendkívül közel áll egymáshoz\, és nagyon jól ki is egészítik egymást. \nNézz szét eseményeim között\, ha van kedved eljönni festeni! 🙂
URL:https://www.elmenyfestes.com/esemeny/szentjanos-bogarak/
LOCATION:Katonadomb utca 11.\, Katonadomb utca 11.\, Dunakeszi\, 2011\, Magyarország
CATEGORIES:Gyerekeknek
ATTACH;FMTTYPE=image/jpeg:https://www.elmenyfestes.com/wp-content/uploads/2024/12/szentjanos-bogarak.jpg
END:VEVENT
END:VCALENDAR