BEGIN:VCALENDAR
VERSION:2.0
PRODID:-//Mosoyoga Dunakeszi - ECPv6.10.1.1//NONSGML v1.0//EN
CALSCALE:GREGORIAN
METHOD:PUBLISH
X-ORIGINAL-URL:https://www.elmenyfestes.com
X-WR-CALDESC:Events for Mosoyoga Dunakeszi
REFRESH-INTERVAL;VALUE=DURATION:PT1H
X-Robots-Tag:noindex
X-PUBLISHED-TTL:PT1H
BEGIN:VTIMEZONE
TZID:Europe/Paris
BEGIN:DAYLIGHT
TZOFFSETFROM:+0100
TZOFFSETTO:+0200
TZNAME:CEST
DTSTART:20260329T010000
END:DAYLIGHT
BEGIN:STANDARD
TZOFFSETFROM:+0200
TZOFFSETTO:+0100
TZNAME:CET
DTSTART:20261025T010000
END:STANDARD
END:VTIMEZONE
BEGIN:VEVENT
DTSTART;TZID=Europe/Paris:20260322T150000
DTEND;TZID=Europe/Paris:20260322T180000
DTSTAMP:20260422T232228
CREATED:20250817T133546Z
LAST-MODIFIED:20260309T143255Z
UID:6713-1774191600-1774202400@www.elmenyfestes.com
SUMMARY:Spániel Kutyus
DESCRIPTION:Tedd kosárba\, és alkosd meg te is!\n\n			\n				\n				\n				\n				\n				\n				\n				\n					7 készleten \n\n	\n	\n		\n		\n    \n                                    \n                    1                \n                            \n                    2                \n                            \n                    3                \n                            \n                    4                \n                            \n                    5                \n                        \n\n\n		Kosárba teszem\n\n			\n\n	\n\n				\n			\n			\n				\n				\n				\n				\n				\n				\n				\n				\n				\n				\n					\n					\n						\n						Felnőtteknek és tiniknek \n					\n				\n			\n				\n				\n				\n				\n				\n					\n					\n						\n						40x50cm\n					\n				\n			\n				\n				\n				\n				\n				\n					\n					\n						\n						3 óra\n					\n				\n			\n				\n				\n				\n				\n				\n					\n					\n						\n						12.490 Ft\n					\n				\n			\n				\n				\n				\n				\n				\n					\n					\n						\n						2120 Dunakeszi\, Katonadomb utca 11. \n					\n				\n			\n				\n				\n				\n				\n				Leírás\n			\n				\n				\n				\n				\n				🎨 Csurgatós Spániel – Élményfestés tiniknek és nagyoknak! 🐶💦🌈 \nKépzeld el\, ahogy egy színes\, vidám spániel kutyus néz vissza rád a vászonról – körülötte pedig fröcskölt\, csurgatott\, szivárványszín háttér kel életre! 🎨💫Ez az élményfestés nemcsak alkotás\, hanem igazi móka – ahol lehet pacsmagolni\, fröcskölni\, nevetni és szabadon alkotni! 😄 \nNem kell tudni festeni\, csak hozd magaddal a jókedvedet!A festményt lépésről lépésre vezetjük\, de a háttér teljesen a te hangulatod szerint születik meg – pont ezért lesz minden kép egyedi és vidám\, mint maga az alkotója. 💕 \nGyerekeknek\, felnőtteknek\, családoknak és barátoknak is szuper program – garantált színes élmény és sok nevetés! 🖌️🐾 \nMinden felszerelést bíztosítok!  \n\nKötényt\, ecsetet\nkézfertőtlenítőt\nbekészítek üditőket\, sütiket és pogácsát is.\n\n			\n				\n				\n				\n				\n				Ha már elmultál 18 éves\, egy pohár borral is megkínállak. Neked csak a jó kedvedet kell hoznod! \nPrivát festés: \nEgy egyéni festésen csak te\, és akiket elhívsz lesznek jelen. Ha szeretnéd ezt a képet saját keretek közt megfesteni\, akkor kérlek vedd fel velünk a kapcsolatot! \nAkril festék tudnivalók \nAz akrilfesték vízzel hígítható\, szagtalan festék\, de műanyagra keményedik ha megszárad.Nagy előnye\, hogy nem fog leázni és nem kopik meg a színe\, jó pár év múlva is megőrzi eredeti fényét.Allergén mentes\, bárki használhatja\, kisgyermekek és kismamák is.A ruhádból frissen még kijön\, rászáradva sajnos már nem\, ezért érdemes olyan öltözéket választani\, amit nem sajnálsz. \nFestés menete: \nA kiválasztott festményt jól látható helyre ki fogom függeszteni mintának\, de ettől te eltérhetsz a saját ízlésed szerint. A te saját műved mindig sokkal szebb.Együtt fogunk haladni\, azaz én is elkezdem megfesteni a képet egy nagy állványon\, minden mozdulatot megmutatok\, így könnyen leutánozhatod és el tudod készíteni a saját képedet. Lehetőséged van más színeket is kérni\, hogy egy egyedi\, különleges képet alkothass.Ha lemaradsz vagy elakadsz\, akkor sincs semmi gond\, szólsz nekem\, és szívesen segítek.Mindenkinek sikerül befejezni a képet\, így biztos lehetsz benne\, hogy neked is sikerülni fog egy remekművet alkotni. \nA helyek száma korlátozott\, ezért kérlek\, jelentkezz be. \n(Az időpontban a változtatás jogát fenntartjuk! A festés elmaradása esetén az árat visszatérítjük. Megérteseteket köszönjük!) \n			\n				További információk a felnőtt festésről\n			\n			\n				\n				\n				\n				\n			\n				\n				\n			\nKirály IldikóSziasztok! Engem Király Ildikónak hívnak\, és közel egy évtizede foglalkozom festéssel. Majdnem 5 éve nyitottam meg élményfestő stúdiómat Dunakeszin\, ahol nap mint nap foglalkozok festeni vágyó\, lelkes emberekkel. A festés mellett jógaoktatással is foglalkozom. Úgy gondolom\, hogy ez a két terület rendkívül közel áll egymáshoz\, és nagyon jól ki is egészítik egymást. \nNézz szét eseményeim között\, ha van kedved eljönni festeni! 🙂
URL:https://www.elmenyfestes.com/esemeny/6713/
LOCATION:Katonadomb utca 11.\, Katonadomb utca 11.\, Dunakeszi\, 2011\, Magyarország
CATEGORIES:Felnőtteknek és gyerekeknek,Festés
ATTACH;FMTTYPE=image/png:https://www.elmenyfestes.com/wp-content/uploads/2025/03/Spaniel.png
END:VEVENT
BEGIN:VEVENT
DTSTART;TZID=Europe/Paris:20260322T160000
DTEND;TZID=Europe/Paris:20260322T190000
DTSTAMP:20260422T232228
CREATED:20250113T205145Z
LAST-MODIFIED:20260119T212726Z
UID:4802-1774195200-1774206000@www.elmenyfestes.com
SUMMARY:Teknős - gyerekeknek
DESCRIPTION:Tedd kosárba\, és hozd el gyermekedet te is festeni! \n			\n				\n				\n				\n				\n				\n				\n				\n					8 készleten \n\n	\n	\n		\n		\n    \n                                    \n                    1                \n                            \n                    2                \n                            \n                    3                \n                            \n                    4                \n                            \n                    5                \n                        \n\n\n		Kosárba teszem\n\n			\n\n	\n\n				\n			\n			\n				\n				\n				\n				\n				\n				\n				\n				\n				\n				\n					\n					\n						\n						Gyerekeknek \n					\n				\n			\n				\n				\n				\n				\n				\n					\n					\n						\n						40x50cm \n					\n				\n			\n				\n				\n				\n				\n				\n					\n					\n						\n						4\,5 óra \n					\n				\n			\n				\n				\n				\n				\n				\n					\n					\n						\n						12.490 Ft \n					\n				\n			\n				\n				\n				\n				\n				\n					\n					\n						\n						2120 Dunakeszi\, Katonadomb utca 11. \n					\n				\n			\n				\n				\n				\n				\n				Leírás \n			\n				\n				\n				\n				\n				Szivből ajánlom azoknak a gyerekeknek akik szeretik a tengert és a tengeri élőlényeket. \nRendszeresen festő gyerekek tudják elkésziteni\, mert nagyon aprolékos és sok türelmet igényel\, de a technikák nem okoznak nehézséget. \n10 éves kortól ajánlom. \nMinden felszerelést bíztosítok!  \n\nKötényt\, ecsetet\nkézfertőtlenítőt\nbekészítek üditőket\, sütiket és pogácsát is.\n\nSzülőként akár te is csatlakozhatsz\, és részetek lehet egy szuper családi kikapcsolódásban. \n\nFeshetitek közösen egy vásznon\nVagy külön-külön\n\n			\n				\n				\n				\n				\n				Festés menete: \nA kiválasztott festményt jól látható helyre ki fogom függeszteni mintának\, de a gyerekek eltérhetnek ettől a saját ízlésük szerint. A ti művetek mindig sokkal szebb 🙂 \nEgyütt fogunk haladni\, azaz én is elkezdem megfesteni a képet egy nagy állványon\, minden mozdulatot megmutatok\, így könnyen leutánozhatják és el tudják készíteni a saját képüket. Lehetősége van a gyerekeknek más színekkel is dolgozni\, hogy egy egyedi\, különleges képet alkothasson\, pont olyat ami neki tetszik. \nHa lemaradás\, vagy elakadás van\, megyek és segítek 🙂Mindenkinek sikerül befejezni a képet\, így biztos lehetsz benne\, hogy gyeremeked egy fülig érő mosollyal és egy remekművel fog távozni! \nA helyek száma korlátozott\, ezért kérlek\, jelentkezz be. \n(Az időpontban a változtatás jogát fenntartjuk! A festés elmaradása esetén az árat visszatérítjük. Megérteseteket köszönjük!) \n			\n				További információk a gyermekfestésről\n			\n			\n				\n				\n				\n				\n			\n				\n				\n			\nKirály IldikóSziasztok! Engem Király Ildikónak hívnak\, és közel egy évtizede foglalkozom festéssel. Majdnem 5 éve nyitottam meg élményfestő stúdiómat Dunakeszin\, ahol nap mint nap foglalkozok festeni vágyó\, lelkes emberekkel. A festés mellett jógaoktatással is foglalkozom. Úgy gondolom\, hogy ez a két terület rendkívül közel áll egymáshoz\, és nagyon jól ki is egészítik egymást. \nNézz szét eseményeim között\, ha van kedved eljönni festeni! 🙂
URL:https://www.elmenyfestes.com/esemeny/teknos-gyerekeknek/
LOCATION:Katonadomb utca 11.\, Katonadomb utca 11.\, Dunakeszi\, 2011\, Magyarország
CATEGORIES:Gyerekeknek
ATTACH;FMTTYPE=image/jpeg:https://www.elmenyfestes.com/wp-content/uploads/2025/01/teknos.jpg
END:VEVENT
BEGIN:VEVENT
DTSTART;TZID=Europe/Paris:20260322T163000
DTEND;TZID=Europe/Paris:20260322T180000
DTSTAMP:20260422T232228
CREATED:20250401T141707Z
LAST-MODIFIED:20260318T191523Z
UID:6307-1774197000-1774202400@www.elmenyfestes.com
SUMMARY:Húsvéti válogatás
DESCRIPTION:Tedd kosárba\, és hozd el gyermeked te is festeni! \n			\n				\n				\n				\n				\n				\n				\n				\n					\n	\n	\n		\n		\n    \n                                    \n                    1                \n                            \n                    2                \n                            \n                    3                \n                            \n                    4                \n                            \n                    5                \n                        \n\n\n		Kosárba teszem\n\n			\n\n	\n\n				\n			\n			\n				\n				\n				\n				\n				\n				\n				\n				\n				\n				\n					\n					\n						\n						Gyerekeknek\n					\n				\n			\n				\n				\n				\n				\n				\n					\n					\n						\n						30x40cm \n					\n				\n			\n				\n				\n				\n				\n				\n					\n					\n						\n						1.5 óra \n					\n				\n			\n				\n				\n				\n				\n				\n					\n					\n						\n						9.800 Ft \n					\n				\n			\n				\n				\n				\n				\n				\n					\n					\n						\n						2120 Dunakeszi\, Katonadomb utca 11. \n					\n				\n			\n				\n				\n				\n				\n				Leírás\n			\n				\n				\n				\n				\n				Ha Húsvét\, akkor minden gyerek tudja\, hogy jön a nyuszi\, de mi lenne ha idén valami szépet is festeni a sok csokitojás mellé? Válasszatok ki közösen a 4 kép közül egyet\, amelyet meg fog festeni gyermeked\, és foglaljátok le a helyét! \nMinden felszerelést bíztosítok!  \n\nKötényt\, ecsetet\nkézfertőtlenítőt\nbekészítek üditőket\, sütiket és pogácsát is.\n\nSzülőként akár te is csatlakozhatsz\, és részetek lehet egy szuper családi kikapcsolódásban\, ha te is megfested a képet gyermekeddel együtt – ilyenkor magadnak is kell jegyet foglalnod \n			\n				\n				\n				\n				\n				Festés menete: \nA kiválasztott festményt jól látható helyre ki fogom függeszteni mintának\, de a gyerekek eltérhetnek ettől a saját ízlésük szerint. A ti művetek mindig sokkal szebb 🙂 \nEgyütt fogunk haladni\, azaz én is elkezdem megfesteni a képet egy nagy állványon\, minden mozdulatot megmutatok\, így könnyen leutánozhatják és el tudják készíteni a saját képüket. Lehetősége van a gyerekeknek más színekkel is dolgozni\, hogy egy egyedi\, különleges képet alkothasson\, pont olyat ami neki tetszik. \nHa lemaradás\, vagy elakadás van\, megyek és segítek 🙂Mindenkinek sikerül befejezni a képet\, így biztos lehetsz benne\, hogy gyeremeked egy fülig érő mosollyal és egy remekművel fog távozni! \nA helyek száma korlátozott\, ezért kérlek\, jelentkezz be. \n(Az időpontban a változtatás jogát fenntartjuk! A festés elmaradása esetén az árat visszatérítjük. Megérteseteket köszönjük!) \n			\n				További információk a gyermekfestésről\n			\n			\n				\n				\n				\n				\n			\n				\n				\n			\nKirály IldikóSziasztok! Engem Király Ildikónak hívnak\, és közel egy évtizede foglalkozom festéssel. Majdnem 5 éve nyitottam meg élményfestő stúdiómat Dunakeszin\, ahol nap mint nap foglalkozok festeni vágyó\, lelkes emberekkel. A festés mellett jógaoktatással is foglalkozom. Úgy gondolom\, hogy ez a két terület rendkívül közel áll egymáshoz\, és nagyon jól ki is egészítik egymást. \nNézz szét eseményeim között\, ha van kedved eljönni festeni! 🙂
URL:https://www.elmenyfestes.com/esemeny/husveti-valogatas/
LOCATION:MosoYOGA és Varázsló Festő Tanoda Művészeti Központ\, Magyar utca 8/a\, Dunakeszi\, Pest\, 2120\, Magyarország
CATEGORIES:Gyerekeknek
ATTACH;FMTTYPE=image/png:https://www.elmenyfestes.com/wp-content/uploads/2025/03/husveti-valogatas-festmeny-termekkep.png
END:VEVENT
BEGIN:VEVENT
DTSTART;TZID=Europe/Paris:20260322T170000
DTEND;TZID=Europe/Paris:20260322T183000
DTSTAMP:20260422T232229
CREATED:20250111T235821Z
LAST-MODIFIED:20260309T065908Z
UID:4872-1774198800-1774204200@www.elmenyfestes.com
SUMMARY:Bolondos zsiráf
DESCRIPTION:Tedd kosárba és hozd el te is gyermeked! \n			\n				\n				\n				\n				\n				\n				\n				\n					7 készleten \n\n	\n	\n		\n		\n    \n                                    \n                    1                \n                            \n                    2                \n                            \n                    3                \n                            \n                    4                \n                            \n                    5                \n                        \n\n\n		Kosárba teszem\n\n			\n\n	\n\n				\n			\n			\n				\n				\n				\n				\n				\n				\n				\n				\n				\n				\n					\n					\n						\n						Gyerekeknek\n					\n				\n			\n				\n				\n				\n				\n				\n					\n					\n						\n						40x50cm\n					\n				\n			\n				\n				\n				\n				\n				\n					\n					\n						\n						2 óra\n					\n				\n			\n				\n				\n				\n				\n				\n					\n					\n						\n						12.490 Ft\n					\n				\n			\n				\n				\n				\n				\n				\n					\n					\n						\n						2120 Dunakeszi\, Katonadomb utca 11. \n					\n				\n			\n				\n				\n				\n				\n				Leírás\n			\n				\n				\n				\n				\n				Minden felszerelést bíztosítok!  \n\nKötényt\, ecsetet\nkézfertőtlenítőt\nbekészítek üditőket\, sütiket és pogácsát is.\n\nSzülőként akár te is csatlakozhatsz\, és részetek lehet egy szuper családi kikapcsolódásban\, ha te is megfested a képet gyermekeddel együtt – ilyenkor magadnak is kell jegyet foglalnod\n			\n				\n				\n				\n				\n				Festés menete: \nA kiválasztott festményt jól látható helyre ki fogom függeszteni mintának\, de a gyerekek eltérhetnek ettől a saját ízlésük szerint. A ti művetek mindig sokkal szebb 🙂 \nEgyütt fogunk haladni\, azaz én is elkezdem megfesteni a képet egy nagy állványon\, minden mozdulatot megmutatok\, így könnyen leutánozhatják és el tudják készíteni a saját képüket. Lehetősége van a gyerekeknek más színekkel is dolgozni\, hogy egy egyedi\, különleges képet alkothasson\, pont olyat ami neki tetszik. \nHa lemaradás\, vagy elakadás van\, megyek és segítek 🙂\nMindenkinek sikerül befejezni a képet\, így biztos lehetsz benne\, hogy gyeremeked egy fülig érő mosollyal és egy remekművel fog távozni! \nA helyek száma korlátozott\, ezért kérlek\, jelentkezz be. \n(Az időpontban a változtatás jogát fenntartjuk! A festés elmaradása esetén az árat visszatérítjük. Megérteseteket köszönjük!)\n			\n				További információk a gyermekfestésről\n			\n			\n				\n				\n				\n				\n			\n				\n				\n			\nKirály IldikóSziasztok! Engem Király Ildikónak hívnak\, és közel egy évtizede foglalkozom festéssel. Majdnem 5 éve nyitottam meg élményfestő stúdiómat Dunakeszin\, ahol nap mint nap foglalkozok festeni vágyó\, lelkes emberekkel. A festés mellett jógaoktatással is foglalkozom. Úgy gondolom\, hogy ez a két terület rendkívül közel áll egymáshoz\, és nagyon jól ki is egészítik egymást. \nNézz szét eseményeim között\, ha van kedved eljönni festeni! 🙂
URL:https://www.elmenyfestes.com/esemeny/bolondos-zsiraf/
LOCATION:Katonadomb utca 11.\, Katonadomb utca 11.\, Dunakeszi\, 2011\, Magyarország
CATEGORIES:Festés,Gyerekeknek
ATTACH;FMTTYPE=image/png:https://www.elmenyfestes.com/wp-content/uploads/2025/01/Bolondos-zsiraf-1.png
END:VEVENT
END:VCALENDAR