BEGIN:VCALENDAR
VERSION:2.0
PRODID:-//Mosoyoga Dunakeszi - ECPv6.10.1.1//NONSGML v1.0//EN
CALSCALE:GREGORIAN
METHOD:PUBLISH
X-ORIGINAL-URL:https://www.elmenyfestes.com
X-WR-CALDESC:Events for Mosoyoga Dunakeszi
REFRESH-INTERVAL;VALUE=DURATION:PT1H
X-Robots-Tag:noindex
X-PUBLISHED-TTL:PT1H
BEGIN:VTIMEZONE
TZID:Europe/Paris
BEGIN:DAYLIGHT
TZOFFSETFROM:+0100
TZOFFSETTO:+0200
TZNAME:CEST
DTSTART:20260329T010000
END:DAYLIGHT
BEGIN:STANDARD
TZOFFSETFROM:+0200
TZOFFSETTO:+0100
TZNAME:CET
DTSTART:20261025T010000
END:STANDARD
END:VTIMEZONE
BEGIN:VEVENT
DTSTART;TZID=Europe/Paris:20260401T100000
DTEND;TZID=Europe/Paris:20260401T130000
DTSTAMP:20260422T214653
CREATED:20250328T210300Z
LAST-MODIFIED:20260223T225055Z
UID:4895-1775037600-1775048400@www.elmenyfestes.com
SUMMARY:Szines Spániel
DESCRIPTION:Tedd kosárba\, és alkosd meg te is! \n			\n				\n				\n				\n				\n				\n				\n				\n					7 készleten \n\n	\n	\n		\n		\n    \n                                    \n                    1                \n                            \n                    2                \n                            \n                    3                \n                            \n                    4                \n                            \n                    5                \n                        \n\n\n		Kosárba teszem\n\n			\n\n	\n\n				\n			\n			\n				\n				\n				\n				\n				\n				\n				\n				\n				\n				\n					\n					\n						\n						Felnőtteknek \n					\n				\n			\n				\n				\n				\n				\n				\n					\n					\n						\n						40x50cm \n					\n				\n			\n				\n				\n				\n				\n				\n					\n					\n						\n						4 óra \n					\n				\n			\n				\n				\n				\n				\n				\n					\n					\n						\n						12.490 Ft \n					\n				\n			\n				\n				\n				\n				\n				\n					\n					\n						\n						2120 Dunakeszi\, Katonadomb u. 11. \n					\n				\n			\n				\n				\n				\n				\n				Leírás \n			\n				\n				\n				\n				\n				\n\n\n\n\nNem könnyű elkészíteni\, de annál izgalamasabb KISKEDVENCÜNK MEGFESTÉSE.\nIzlés szerint tele fröcskölheted a hátteret kedvenc színeiddel.\n4 óra alatt elkészül 40×50 cm-es feszített vászonra\, akrilfestékkel.14 éves kortól lehet jelentkezni.\n \n\n\n\n\n\nMinden felszerelést bíztosítok!  \n\nKötényt\, ecsetet\nkézfertőtlenítőt\nbekészítek üditőket\, sütiket és pogácsát is.\n\n			\n				\n				\n				\n				\n				Ha már elmultál 18 éves\, egy pohár borral is megkínállak. Neked csak a jó kedvedet kell hoznod! \nPrivát festés: \nHétköznap délelőtt az időpontot te válszthatod ki szabadon\, csak te és akit elhívsz lesz jelen.Az akrilfesték vízzel hígítható\, szagtalan festék\, de műanyagra keményedik ha megszárad.Nagy előnye\, hogy nem fog leázni és nem kopik meg a színe\, jó pár év múlva is megőrzi eredeti fényét.Allergén mentes\, bárki használhatja\, kisgyermekek és kismamák is.A ruhádból frissen még kijön\, rászáradva sajnos már nem\, ezért érdemes olyan öltözéket választani\, amit nem sajnálsz. \nFestés menete: \nA kiválasztott festményt jól látható helyre ki fogom függeszteni mintának\, de ettől te eltérhetsz a saját ízlésed szerint. A te saját műved mindig sokkal szebb.Együtt fogunk haladni\, azaz én is elkezdem megfesteni a képet egy nagy állványon\, minden mozdulatot megmutatok\, így könnyen leutánozhatod és el tudod készíteni a saját képedet. Lehetőséged van más színeket is kérni\, hogy egy egyedi\, különleges képet alkothass.Ha lemaradsz vagy elakadsz\, akkor sincs semmi gond\, szólsz nekem\, és szívesen segítek.Mindenkinek sikerülni fog befejezni a képet\, így biztos lehetsz benne\, egy remekművel távozol! \nA helyek száma korlátozott\, ezért kérlek\, jelentkezz be. \n(Az időpontban a változtatás jogát fenntartjuk! A festés elmaradása esetén az árat visszatérítjük. Megérteseteket köszönjük!) \n			\n			\n				\n				\n				\n				\n			\n				\n				\n			\nKirály IldikóSziasztok! Engem Király Ildikónak hívnak\, és közel egy évtizede foglalkozom festéssel. Majdnem 5 éve nyitottam meg élményfestő stúdiómat Dunakeszin\, ahol nap mint nap foglalkozok festeni vágyó\, lelkes emberekkel. A festés mellett jógaoktatással is foglalkozom. Úgy gondolom\, hogy ez a két terület rendkívül közel áll egymáshoz\, és nagyon jól ki is egészítik egymást. \nNézz szét eseményeim között\, ha van kedved eljönni festeni! 🙂
URL:https://www.elmenyfestes.com/esemeny/spaniel/
LOCATION:Katonadomb utca 11.\, Katonadomb utca 11.\, Dunakeszi\, 2011\, Magyarország
CATEGORIES:Felnőtteknek és gyerekeknek
ATTACH;FMTTYPE=image/png:https://www.elmenyfestes.com/wp-content/uploads/2025/03/Spaniel.png
END:VEVENT
BEGIN:VEVENT
DTSTART;TZID=Europe/Paris:20260401T160000
DTEND;TZID=Europe/Paris:20260401T190000
DTSTAMP:20260422T214653
CREATED:20250817T112341Z
LAST-MODIFIED:20260223T230149Z
UID:6683-1775059200-1775070000@www.elmenyfestes.com
SUMMARY:Kolibri
DESCRIPTION:Minden felszerelést bíztosítok! \n\nKötényt\, ecsetet\nkézfertőtlenítőt\nbekészítek üditőket\, sütiket és pogácsát is.\n\nSzülőként akár te is csatlakozhatsz\, és részetek lehet egy szuper családi kikapcsolódásban\, ha te is megfested a képet gyermekeddel együtt – ilyenkor magadnak is kell jegyet foglalnod \n\n\n\n\nFestés menete: \nA kiválasztott festményt jól látható helyre ki fogom függeszteni mintának\, de a gyerekek eltérhetnek ettől a saját ízlésük szerint. A ti művetek mindig sokkal szebb 🙂 \nEgyütt fogunk haladni\, azaz én is elkezdem megfesteni a képet egy nagy állványon\, minden mozdulatot megmutatok\, így könnyen leutánozhatják és el tudják készíteni a saját képüket. Lehetősége van a gyerekeknek más színekkel is dolgozni\, hogy egy egyedi\, különleges képet alkothasson\, pont olyat ami neki tetszik. \nHa lemaradás\, vagy elakadás van\, megyek és segítek 🙂\nMindenkinek sikerül befejezni a képet\, így biztos lehetsz benne\, hogy gyeremeked egy fülig érő mosollyal és egy remekművel fog távozni! \nA helyek száma korlátozott\, ezért kérlek\, jelentkezz be. \n(Az időpontban a változtatás jogát fenntartjuk! A festés elmaradása esetén az árat visszatérítjük. Megérteseteket köszönjük!) \n\n\nKirály IldikóSziasztok! Engem Király Ildikónak hívnak\, és közel egy évtizede foglalkozom festéssel. Majdnem 5 éve nyitottam meg élményfestő stúdiómat Dunakeszin\, ahol nap mint nap foglalkozok festeni vágyó\, lelkes emberekkel. A festés mellett jógaoktatással is foglalkozom. Úgy gondolom\, hogy ez a két terület rendkívül közel áll egymáshoz\, és nagyon jól ki is egészítik egymást. \nNézz szét eseményeim között\, ha van kedved eljönni festeni! 🙂
URL:https://www.elmenyfestes.com/esemeny/kolibri-2/
LOCATION:Katonadomb utca 11.\, Katonadomb utca 11.\, Dunakeszi\, 2011\, Magyarország
CATEGORIES:Felnőtteknek és gyerekeknek,Festés
ATTACH;FMTTYPE=image/jpeg:https://www.elmenyfestes.com/wp-content/uploads/2022/11/IMG_8442.jpg
END:VEVENT
END:VCALENDAR