BEGIN:VCALENDAR
VERSION:2.0
PRODID:-//Mosoyoga Dunakeszi - ECPv6.10.1.1//NONSGML v1.0//EN
CALSCALE:GREGORIAN
METHOD:PUBLISH
X-WR-CALNAME:Mosoyoga Dunakeszi
X-ORIGINAL-URL:https://www.elmenyfestes.com
X-WR-CALDESC:Events for Mosoyoga Dunakeszi
REFRESH-INTERVAL;VALUE=DURATION:PT1H
X-Robots-Tag:noindex
X-PUBLISHED-TTL:PT1H
BEGIN:VTIMEZONE
TZID:Europe/Paris
BEGIN:DAYLIGHT
TZOFFSETFROM:+0100
TZOFFSETTO:+0200
TZNAME:CEST
DTSTART:20250330T010000
END:DAYLIGHT
BEGIN:STANDARD
TZOFFSETFROM:+0200
TZOFFSETTO:+0100
TZNAME:CET
DTSTART:20251026T010000
END:STANDARD
END:VTIMEZONE
BEGIN:VEVENT
DTSTART;TZID=Europe/Paris:20251003T170000
DTEND;TZID=Europe/Paris:20251003T190000
DTSTAMP:20260423T055432
CREATED:20250817T133144Z
LAST-MODIFIED:20250927T173531Z
UID:6711-1759510800-1759518000@www.elmenyfestes.com
SUMMARY:Világító torony
DESCRIPTION:Tedd kosárba\, és hozd el gyermeked te is festeni! \n			\n				\n				\n				\n				\n				\n				\n				\n					\n	\n	\n		\n		\n    \n                                    \n                    1                \n                            \n                    2                \n                            \n                    3                \n                            \n                    4                \n                            \n                    5                \n                        \n\n\n		Kosárba teszem\n\n			\n\n	\n\n				\n			\n			\n				\n				\n				\n				\n				\n				\n				\n				\n				\n				\n					\n					\n						\n						Gyerekeknek\n					\n				\n			\n				\n				\n				\n				\n				\n					\n					\n						\n						30x40cm \n					\n				\n			\n				\n				\n				\n				\n				\n					\n					\n						\n						1.5 óra \n					\n				\n			\n				\n				\n				\n				\n				\n					\n					\n						\n						9.800 Ft \n					\n				\n			\n				\n				\n				\n				\n				\n					\n					\n						\n						2120 Dunakeszi\, Magyar u. 8 \n					\n				\n			\n				\n				\n				\n				\n				Leírás\n			\n				\n				\n				\n				\n				A panda egy olyan barátságos társ\, aki mindig mosolyog és örömöt szerez .Ajándékozd gyermekednek egy élményfestést\, ahol ezt a bájos\, színes pandát festik meg! A mosolygós arc és a vibráló színek garantáltan elnyerik majd a kicsik tetszését! \nMinden felszerelést bíztosítok!  \n\nKötényt\, ecsetet\nkézfertőtlenítőt\nbekészítek üditőket\, sütiket és pogácsát is.\n\nSzülőként akár te is csatlakozhatsz\, és részetek lehet egy szuper családi kikapcsolódásban\, ha te is megfested a képet gyermekeddel együtt – ilyenkor magadnak is kell jegyet foglalnod \n			\n				\n				\n				\n				\n				Festés menete: \nA kiválasztott festményt jól látható helyre ki fogom függeszteni mintának\, de a gyerekek eltérhetnek ettől a saját ízlésük szerint. A ti művetek mindig sokkal szebb 🙂 \nEgyütt fogunk haladni\, azaz én is elkezdem megfesteni a képet egy nagy állványon\, minden mozdulatot megmutatok\, így könnyen leutánozhatják és el tudják készíteni a saját képüket. Lehetősége van a gyerekeknek más színekkel is dolgozni\, hogy egy egyedi\, különleges képet alkothasson\, pont olyat ami neki tetszik. \nHa lemaradás\, vagy elakadás van\, megyek és segítek 🙂Mindenkinek sikerül befejezni a képet\, így biztos lehetsz benne\, hogy gyeremeked egy fülig érő mosollyal és egy remekművel fog távozni! \nA helyek száma korlátozott\, ezért kérlek\, jelentkezz be. \n(Az időpontban a változtatás jogát fenntartjuk! A festés elmaradása esetén az árat visszatérítjük. Megérteseteket köszönjük!) \n			\n				További információk a gyermekfestésről\n			\n			\n				\n				\n				\n				\n			\n				\n				\n			\nKirály IldikóSziasztok! Engem Király Ildikónak hívnak\, és közel egy évtizede foglalkozom festéssel. Majdnem 5 éve nyitottam meg élményfestő stúdiómat Dunakeszin\, ahol nap mint nap foglalkozok festeni vágyó\, lelkes emberekkel. A festés mellett jógaoktatással is foglalkozom. Úgy gondolom\, hogy ez a két terület rendkívül közel áll egymáshoz\, és nagyon jól ki is egészítik egymást. \nNézz szét eseményeim között\, ha van kedved eljönni festeni! 🙂
URL:https://www.elmenyfestes.com/esemeny/vilagito-torony/
LOCATION:Katonadomb utca 11.\, Katonadomb utca 11.\, Dunakeszi\, 2011\, Magyarország
CATEGORIES:Felnőtteknek és gyerekeknek,Festés
ATTACH;FMTTYPE=image/jpeg:https://www.elmenyfestes.com/wp-content/uploads/2024/10/IMG_9144.jpg
END:VEVENT
BEGIN:VEVENT
DTSTART;TZID=Europe/Paris:20251027T080000
DTEND;TZID=Europe/Paris:20251030T163000
DTSTAMP:20260423T055432
CREATED:20250223T203051Z
LAST-MODIFIED:20251014T061923Z
UID:5841-1761552000-1761841800@www.elmenyfestes.com
SUMMARY:Őszi festő tábor - október 27-30.
DESCRIPTION:Őszi festés és kézműveskedés\nKézműves rajztáborban a kreatív tevékenységek állnak a középpontban\, de azért lesz játékos gyermek gerinc joga is\, és szabad játék a Katonadombi játszótéren.Időpont október 27-30.Program: \n\n3D-s rajz technikák titokzatos technikák meg tanulása\nÁsvány gyertya készítés\nDeszka kép készítés égetéses technikával\nAgyag virág készítés\nUV gyanta ékszer készíté\n\nKinek ajánljuk őszi táborunkat?\n2-5 osztályos  gyerekek részére\,Akik imádnak barkácsolni és kreatívkodni.Nem baj\, ha még nem volt tapasztalatuk a felsorolt kézműves programokban\, hiszen mindent lépésről lépésre megtanítunk. Így mindenki kézügyességéttől és képességétől függetlenül ugyan olyan ügyes alkotást fog készíteni.Az ár tartalmazza délben a meleg ebédet\, ezért kérlek tízórait és uzsonnát hoz magaddal.Az őszi szünetben nem muszáj egész hétre bejelentkezned jöhetsz csak egy napra is.Ár táblázat: napi díj 14 000 Ft/nap: fő2 napra: 13 000 / nap / fő3 napra 11 000 Ft / nap / fő4 napra: 10 000 Ft / nap / főA táborba bármikor érkezhetsz nyitvatartási időn belül\, illetve hamarabb is elmehetsz.Nyitva tartás 8-16.30 közöttKézműves programok 9-14.00 között.Jelentkezni: info@élményfestés.comÉrdeklődni: 30 / 99-18-177Helyszín: Dunakeszi Katonadomb utca 11.Király Ildikó \n  \n  \n			\n			\n				\n				\n				\n				\n			\n				\n				\n				\n				\n				\n				\n			\n				\n				\n				\n				\n				\n				\n				\n				\n				\n				További információk\n			\n				\n				\n				\n				\n				\n					\n					\n						Helyszín\n						Dunakeszi Katonadomb utca 11. \n					\n				\n			\n				\n				\n				\n				\n				\n					\n					\n						Étkezés\n						Meleg ebédet adunk\, viszont uzsonnát és reggelit hozz magaddal! \n					\n				\n			\n				\n				\n				\n				\n				\n				\n				\n					\n\n	\n			\n			\n									\n						Foglalás\n						\n							Válassz egy lehetőséget1 nap2 nap3 nap4 napTörlés						\n					\n							\n		\n		\n		\n		\n			\n	\n	\n    \n                                    \n                    1                \n                            \n                    2                \n                            \n                    3                \n                            \n                    4                \n                            \n                    5                \n                        \n\n\n	Kosárba teszem\n\n	\n	\n	\n	\n\n		\n	\n	\n\n\n				\n			\n			\n				\n				\n				\n				\n			\n				\n				\n			\nKirály IldikóSziasztok! Engem Király Ildikónak hívnak\, és közel egy évtizede foglalkozom festéssel. Majdnem 5 éve nyitottam meg élményfestő stúdiómat Dunakeszin\, ahol nap mint nap foglalkozok festeni vágyó\, lelkes emberekkel. A festés mellett jógaoktatással is foglalkozom. Úgy gondolom\, hogy ez a két terület rendkívül közel áll egymáshoz\, és nagyon jól ki is egészítik egymást. \nNézz szét eseményeim között\, ha van kedved eljönni festeni! 🙂
URL:https://www.elmenyfestes.com/esemeny/oszi-tabor-2025/
LOCATION:Katonadomb utca 11.\, Katonadomb utca 11.\, Dunakeszi\, 2011\, Magyarország
CATEGORIES:Felnőtteknek és gyerekeknek,Festés
ATTACH;FMTTYPE=image/jpeg:https://www.elmenyfestes.com/wp-content/uploads/2024/10/IMG_0781-scaled.jpg
END:VEVENT
BEGIN:VEVENT
DTSTART;TZID=Europe/Paris:20251031T160000
DTEND;TZID=Europe/Paris:20251031T180000
DTSTAMP:20260423T055433
CREATED:20250826T214037Z
LAST-MODIFIED:20251009T212931Z
UID:6723-1761926400-1761933600@www.elmenyfestes.com
SUMMARY:Halloween cica
DESCRIPTION:Tedd kosárba\, és hozd el gyermeked te is festeni! \n			\n				\n				\n				\n				\n				\n				\n				\n					\n	\n	\n		\n		\n    \n                                    \n                    1                \n                            \n                    2                \n                            \n                    3                \n                            \n                    4                \n                            \n                    5                \n                        \n\n\n		Kosárba teszem\n\n			\n\n	\n\n				\n			\n			\n				\n				\n				\n				\n				\n				\n				\n				\n				\n				\n					\n					\n						\n						Október 31. (Péntek) 16:00 – 18:30 \n					\n				\n			\n				\n				\n				\n				\n				\n					\n					\n						\n						Gyerekeknek\n					\n				\n			\n				\n				\n				\n				\n				\n					\n					\n						\n						30x40cm \n					\n				\n			\n				\n				\n				\n				\n				\n					\n					\n						\n						1.5 óra \n					\n				\n			\n				\n				\n				\n				\n				\n					\n					\n						\n						9.800 Ft \n					\n				\n			\n				\n				\n				\n				\n				\n					\n					\n						\n						2120 Dunakeszi\, Katonadomb utca 11. \n					\n				\n			\n				\n				\n				\n				\n				Leírás\n			\n				\n				\n				\n				\n				Készen állsz egy szuper kreatív délutánra? 🎨 Gyere el az Élményfestés Tiniknek programra\, ahol most egy vidám Halloween tököt és egy cuki fekete macskát festünk meg! 😺🧡 \nNem kell profi festőnek lenned – mi mindent megmutatunk lépésről lépésre\, és garantáltan szuperül fog kinézni a saját alkotásod a végén! 🌟 \nLesz nevetés\, Halloween-hangulat\, egy kis zene\, finom nasi… és persze a legjobb rész: te magad készítheted el a saját\, egyedi festményedet! \nHozd el a barátaidat is\, és töltsünk együtt egy kreatív\, színes délutánt! 🎃💫Csatlakozz\, és fess velünk egy macskás-tökös mesterművet – ami garantáltan feldobja az őszi napokat! 🍁 \nMinden felszerelést bíztosítok!  \n\nKötényt\, ecsetet\nkézfertőtlenítőt\nbekészítek üditőket\, sütiket és pogácsát is.\n\nSzülőként akár te is csatlakozhatsz\, és részetek lehet egy szuper családi kikapcsolódásban\, ha te is megfested a képet gyermekeddel együtt – ilyenkor magadnak is kell jegyet foglalnod \n			\n				\n				\n				\n				\n				Festés menete: \nA kiválasztott festményt jól látható helyre ki fogom függeszteni mintának\, de a gyerekek eltérhetnek ettől a saját ízlésük szerint. A ti művetek mindig sokkal szebb 🙂 \nEgyütt fogunk haladni\, azaz én is elkezdem megfesteni a képet egy nagy állványon\, minden mozdulatot megmutatok\, így könnyen leutánozhatják és el tudják készíteni a saját képüket. Lehetősége van a gyerekeknek más színekkel is dolgozni\, hogy egy egyedi\, különleges képet alkothasson\, pont olyat ami neki tetszik. \nHa lemaradás\, vagy elakadás van\, megyek és segítek 🙂Mindenkinek sikerül befejezni a képet\, így biztos lehetsz benne\, hogy gyeremeked egy fülig érő mosollyal és egy remekművel fog távozni! \nA helyek száma korlátozott\, ezért kérlek\, jelentkezz be. \n(Az időpontban a változtatás jogát fenntartjuk! A festés elmaradása esetén az árat visszatérítjük. Megérteseteket köszönjük!) \n			\n				További információk a gyermekfestésről\n			\n			\n				\n				\n				\n				\n			\n				\n				\n			\nKirály IldikóSziasztok! Engem Király Ildikónak hívnak\, és közel egy évtizede foglalkozom festéssel. Majdnem 5 éve nyitottam meg élményfestő stúdiómat Dunakeszin\, ahol nap mint nap foglalkozok festeni vágyó\, lelkes emberekkel. A festés mellett jógaoktatással is foglalkozom. Úgy gondolom\, hogy ez a két terület rendkívül közel áll egymáshoz\, és nagyon jól ki is egészítik egymást. \nNézz szét eseményeim között\, ha van kedved eljönni festeni! 🙂
URL:https://www.elmenyfestes.com/esemeny/halloween-cica/
LOCATION:Katonadomb utca 11.\, Katonadomb utca 11.\, Dunakeszi\, 2011\, Magyarország
CATEGORIES:Felnőtteknek és gyerekeknek,Festés
ATTACH;FMTTYPE=image/jpeg:https://www.elmenyfestes.com/wp-content/uploads/2021/11/IMG_335225839.jpg
END:VEVENT
BEGIN:VEVENT
DTSTART;TZID=Europe/Paris:20251031T170000
DTEND;TZID=Europe/Paris:20251031T200000
DTSTAMP:20260423T055433
CREATED:20250826T215146Z
LAST-MODIFIED:20251009T212639Z
UID:6726-1761930000-1761940800@www.elmenyfestes.com
SUMMARY:Fehér cica a vörös égbolt alatt
DESCRIPTION:Tedd kosárba\, és hozd el gyermeked te is festeni! \n			\n				\n				\n				\n				\n				\n				\n				\n					\n	\n	\n		\n		\n    \n                                    \n                    1                \n                            \n                    2                \n                            \n                    3                \n                            \n                    4                \n                            \n                    5                \n                        \n\n\n		Kosárba teszem\n\n			\n\n	\n\n				\n			\n			\n				\n				\n				\n				\n				\n				\n				\n				\n				\n				\n					\n					\n						\n						Oktober 31. (Péntek) 17:00 – 18:30 \n					\n				\n			\n				\n				\n				\n				\n				\n					\n					\n						\n						Gyerekeknek\n					\n				\n			\n				\n				\n				\n				\n				\n					\n					\n						\n						30x40cm \n					\n				\n			\n				\n				\n				\n				\n				\n					\n					\n						\n						1.5 óra \n					\n				\n			\n				\n				\n				\n				\n				\n					\n					\n						\n						9.800 Ft \n					\n				\n			\n				\n				\n				\n				\n				\n					\n					\n						\n						2120 Dunakeszi\, Katonadomb utca 11. \n					\n				\n			\n				\n				\n				\n				\n				Leírás\n			\n				\n				\n				\n				\n				\n\nGyere el és próbáld ki a Fehér cica a vörös égbolt alatt című élményfestést\, ahol most egy Helloween hangulatú fehér macskát festünk meg együtt! 😺Nem kell semmilyen előképzettség – csak a jókedved és egy kis kíváncsiság!Mi segítünk lépésről lépésre\, közben megy a zene\, finom nasik várnak\, és garantáltan tele leszel őszi energiával. 🍁💫 \nA végén pedig hazaviheted a saját\, egyedi festményedet – ami tutira feldobja a szobád vagy a hangulatod! 🧡 \n\n\nMinden felszerelést bíztosítok!  \n\nKötényt\, ecsetet\nkézfertőtlenít\nKreatív vagy\, szereted a jó hangulatot és a Halloween-t? 🎃Akkor ez a program neked való! \n\nbekészítek üditőket\, sütiket és pogácsát is.\n\nSzülőként akár te is csatlakozhatsz\, és részetek lehet egy szuper családi kikapcsolódásban\, ha te is megfested a képet gyermekeddel együtt – ilyenkor magadnak is kell jegyet foglalnod \n			\n				\n				\n				\n				\n				Festés menete: \nA kiválasztott festményt jól látható helyre ki fogom függeszteni mintának\, de a gyerekek eltérhetnek ettől a saját ízlésük szerint. A ti művetek mindig sokkal szebb 🙂 \nEgyütt fogunk haladni\, azaz én is elkezdem megfesteni a képet egy nagy állványon\, minden mozdulatot megmutatok\, így könnyen leutánozhatják és el tudják készíteni a saját képüket. Lehetősége van a gyerekeknek más színekkel is dolgozni\, hogy egy egyedi\, különleges képet alkothasson\, pont olyat ami neki tetszik. \nHa lemaradás\, vagy elakadás van\, megyek és segítek 🙂Mindenkinek sikerül befejezni a képet\, így biztos lehetsz benne\, hogy gyeremeked egy fülig érő mosollyal és egy remekművel fog távozni! \nA helyek száma korlátozott\, ezért kérlek\, jelentkezz be. \n(Az időpontban a változtatás jogát fenntartjuk! A festés elmaradása esetén az árat visszatérítjük. Megérteseteket köszönjük!) \n			\n				További információk a gyermekfestésről\n			\n			\n				\n				\n				\n				\n			\n				\n				\n			\nKirály IldikóSziasztok! Engem Király Ildikónak hívnak\, és közel egy évtizede foglalkozom festéssel. Majdnem 5 éve nyitottam meg élményfestő stúdiómat Dunakeszin\, ahol nap mint nap foglalkozok festeni vágyó\, lelkes emberekkel. A festés mellett jógaoktatással is foglalkozom. Úgy gondolom\, hogy ez a két terület rendkívül közel áll egymáshoz\, és nagyon jól ki is egészítik egymást. \nNézz szét eseményeim között\, ha van kedved eljönni festeni! 🙂
URL:https://www.elmenyfestes.com/esemeny/6726/
LOCATION:Katonadomb utca 11.\, Katonadomb utca 11.\, Dunakeszi\, 2011\, Magyarország
CATEGORIES:Felnőtteknek és gyerekeknek,Festés
END:VEVENT
END:VCALENDAR