BEGIN:VCALENDAR
VERSION:2.0
PRODID:-//Mosoyoga Dunakeszi - ECPv6.10.1.1//NONSGML v1.0//EN
CALSCALE:GREGORIAN
METHOD:PUBLISH
X-ORIGINAL-URL:https://www.elmenyfestes.com
X-WR-CALDESC:Events for Mosoyoga Dunakeszi
REFRESH-INTERVAL;VALUE=DURATION:PT1H
X-Robots-Tag:noindex
X-PUBLISHED-TTL:PT1H
BEGIN:VTIMEZONE
TZID:Europe/Paris
BEGIN:DAYLIGHT
TZOFFSETFROM:+0100
TZOFFSETTO:+0200
TZNAME:CEST
DTSTART:20260329T010000
END:DAYLIGHT
BEGIN:STANDARD
TZOFFSETFROM:+0200
TZOFFSETTO:+0100
TZNAME:CET
DTSTART:20261025T010000
END:STANDARD
END:VTIMEZONE
BEGIN:VEVENT
DTSTART;VALUE=DATE:20260629
DTEND;VALUE=DATE:20260711
DTSTAMP:20260423T010213
CREATED:20250309T191936Z
LAST-MODIFIED:20260405T200848Z
UID:6111-1782691200-1783727999@www.elmenyfestes.com
SUMMARY:3D nyomtató kreatív nyári napközi
DESCRIPTION:3D Nyomtató Nyári napközi- Alkoss a jövőből egy darabot!\nTöbb mint képernyőidő – alkotás\, élmény\, fejlődés egy héten át… \nA nyári táborunkban a gyerekek nem egész nap a számítógép előtt ülnek\, hanem alkotnak\, terveznek és a saját kezükkel hoznak létre valódi tárgyakat. \nGyermeked megismerkedhet nálunk 3-D nyomtamtás rejtelmeivel és elkészítheti első saját játékát!A digitális tudás egyre fontosabb lesz hétköznapi életünkben.A jövőhöz szükséges készségek\, a probléma megoldástól és a logikus gondolkodástól egészen a kreativitásig és a csapat munkáig. Miközben gyermeked felfedezi a 3D nyomtató által tervezhető világot elkészítheti sajátmaga által kiválasztott játékokat. Pénteken te szülőként is betekintést nyerhetsz a 3D nyomtatás világába. \n3D nyomtatás foglalkozásokkal indítjuk a napot minden délelőtt\, és kifejezetten gyerekbarát\, kreatív formában zajlanak. A hangsúly nem a „gombnyomogatáson”\, hanem az ötlet\, tárgy\, élmény folyamaton van. \nMit csinálnak a gyerekek a gyakorlatban? \n\nMegismerkednek a 3D nyomtatás alapjaival – érthetően\, játékosan\n Saját tárgyakat választanak és alakítanak ki\n Minden gyermek külön 3D nyomtatóval dolgozik\, így valóban részese a folyamatnak\n Kézzel is alkotnak:\n\n\n\nnyomtatott elemek összeillesztése\nkipróbálás\, használat\nfestés és díszítés a délutáni élményfestés során\n\n\n\nMi fejlődik közben észrevétlenül? \n\nProblémamegoldó gondolkodás\nTérlátás és kreativitás\n Önállóság és sikerélmény\nMagabiztos bemutatás („ezt én csináltam”)\n\nA hét végére minden gyermek több\, saját maga által készített és díszített tárggyal tér haza\, miközben megtapasztalja\, hogy a digitális világ nem csak fogyasztásra\, hanem alkotásra is való. \nÉs mi a következő lépés? \nA tábor egy kedvcsináló betekintés a 3D tervezés és nyomtatás világába. Az utolsó napon rövid szülői tájékoztatót tartunk\, ahol bemutatjuk: \n\nmiben fejlődtek a gyerekek a hét során\,\nés hogyan lehet ezt a tudást egy 4 hónapos\, fokozatos tanfolyamon tovább építeni.\n\nFontos: a gyerekek nem „tanfolyamon ülnek”\, hanem alkotó élményt kapnak – a tanulás pedig közben történik. \n  \nKreatív nyári napköziGyorsan fogynak a helyek\, de még nem késő csatlakoznod! Ha szeretnél egy fantasztikus hetet tölteni a 3D nyomtatás világában\, szórakoztató módon. \n\nÉrdekes és különleges 3D játékokat festünk. \nLogikai játékok\, sakk és Társas játék party.\nSok mozgás és játékos gyermek gerinc joga.\nFantasztikus Duna-parti környezetben.\nVicces kutya bemutató\nSok nevetés és vidámság.\nKézműveskedés.\n3D-s Rajztechnikák\nLesz pancsolás a gumi szökőkútban\nDélben fincsi gyerekbarát ebéddel várjuk a gyerekeket.\nSzabad játék a Katonadombi játszótéren.\n\nVárunk szeretettel! \n10000 Ft előleg befizetésével lehet lefoglalni.Jelentkezni: info@elmenyfestes.comA csoport létszáma 12 fő\, ezért jelentkezz be minél hamarabb.Szeretettel:  Király Ildikó \n  \n			\n				\n				\n				\n				\n				Kiknek ajánljuk nyári táborunkat?\n9-14 év közötti gyerekeknek akik imádnak kreatívkodni! Nem baj ha még nem volt tapasztalatuk a  számítógéppel és 3-D nyomtatóval\, sőt kifejezetten kezdőknek ajánljuk. Tapasztalattól függetlenül ajánljuk mindenkinek táborunkat.\nKedves ügyfelünk!\nA kosár funkcio jelenleg a weboldalunkon nem  használható ezért kérjük e-mailben jelentkezzen.\nírja meg a kiválasztott program időpontját hány fővel szeretnének részt venni a programon\, gyermek nevét éeltkorát\, szülö neve telefonszáma\, utaló neve\, címe és válasz levélben küldjük a banki adatokat és a részleteket.\nMegértésüket köszönjük: Élményfestők csapata \n			\n			\n				\n				\n				\n				\n			\n				\n				\n				\n				\n				\n				\n				\n				\n				\n				\n				Vélemények \n			\n				\n				\n				\n				\n				 \n\n\n\n\n\n\n        \n            \n                                                \n\n                                        \n                        SlideSzuper 1 hetes tábor volt\, tele játékos és ügyességi feladatokkal\, kreatív foglalkozásokkal és festéssel. Ajánlani tudom :)) és a bónusz a cuki Mázli kutya volt \n— Visy B. \nSlideÉlménydús\, érdekes programok\, kedves táborvezetők\, családias légkör. \n— Kovács Zsuzsanna \nSlideSzuper kedves Szervező\, helyszín is meseszép...jó szívvel ajánlom...SZUPER! \n—Drahos  Dóra  \n                    \n\n                                    \n            \n        \n         \n			\n			\n				\n				\n				\n				\n			\n				\n				\n				\n				\n				\n				\n				\n				\n				\n				\n				 \n\n\n\n\n        \n            \n                                                \n\n                                        \n                        festő tábor hero sectionvégeredmény 4festo tabor eredmeny4                    \n\n                                    \n            \n        \n         \n			\n			\n				\n				\n				\n				\n				\n				\n				\n				\n				\n				További információk\n			\n				\n				\n				\n				\n				\n					\n					\n						Helyszín\n						Dunakeszi Katonadomb utca 11. \n					\n				\n			\n				\n				\n				\n				\n				\n					\n					\n						Étkezés\n						Finom gyerek barát meleg ebéddel várjuk a gyermekeket  \n					\n				\n			\n				\n				\n				\n				\n				\n					\n					\n						Ár\n						A tábor díja 54.800Ft.\n					\n				\n			\n			\n				\n				\n				\n				\n			\n				\n				\n			\nKirály IldikóSziasztok! Engem Király Ildikónak hívnak\, és közel egy évtizede foglalkozom festéssel. Majdnem 5 éve nyitottam meg élményfestő stúdiómat Dunakeszin\, ahol nap mint nap foglalkozok festeni vágyó\, lelkes emberekkel. A festés mellett jógaoktatással is foglalkozom. Úgy gondolom\, hogy ez a két terület rendkívül közel áll egymáshoz\, és nagyon jól ki is egészítik egymást. \nNézz szét eseményeim között\, ha van kedved eljönni festeni! 🙂
URL:https://www.elmenyfestes.com/esemeny/3d-nyomtato-kreativ-nyari-tabor/
LOCATION:Katonadomb utca 11.\, Katonadomb utca 11.\, Dunakeszi\, 2011\, Magyarország
CATEGORIES:Felnőtteknek és gyerekeknek,Festés,Tábor
ATTACH;FMTTYPE=image/jpeg:https://www.elmenyfestes.com/wp-content/uploads/2026/02/IMG_8808.jpeg
END:VEVENT
BEGIN:VEVENT
DTSTART;VALUE=DATE:20260713
DTEND;VALUE=DATE:20260718
DTSTAMP:20260423T010213
CREATED:20250224T202650Z
LAST-MODIFIED:20260403T211100Z
UID:5899-1783900800-1784332799@www.elmenyfestes.com
SUMMARY:Tánc-Festő nyári napközi I.turnus
DESCRIPTION:gyerekek esernyővelgyerekek kézenfogva szaladgálnakgyerekek táncolnakgyerkek körbe körbe mennek                    \n\n                                    \n            \n        \n         \n			\n				\n				\n				\n				\n				\n			\n			\n				\n				\n				\n				\n				\n				\n				\n				\n				\n				Nyári tánctábor gyerekeknek!\nKacagós Táncos nyári szünet garantált!\n \nSzeretnél modern táncot tanulni\, szuper zenékre?\n \nSzeretnél sokat lenni a szabadban\, nevetgélni és új barátokat szerezni?\n \nItt a helyed! Téged várunk!\nDunakeszi Katonadombon egy fantasztikus dunaparti erdei környezetben kirándulunk\, a legnagyobb melegben is kellemes hűvöst biztosít nekünk az erdő\, ahol csatangolunk\, kincset keresünk. A Katonadomb 11 festőmühelyben kellemes hüvősben festegetünk és kéznüveskedünk.\n\n \nTáncos táborunkban többféle táncfajtával ismerkedhetnek meg\, a modern tánctól kezdve\, a hulahoppon át\, a szalagtáncig\, seprűtánc és a végén egy szivárvány esernyővel is eljárjuk az esőtáncot. ezt a gyerekek hazavihetik. Különféle kellékeket is fogunk használni\, pl. szivárványos esernyőket\, szalmakalapot\, melyekkel még izgalmasabbá tesszük a koreográfiát. Péntek délután pedig egy táncbemutatóval zárjuk a hetet.\n\n\n\n\nA táborban természetesen a táncé a főszerep\, de ezen kívül is rengeteg élmény várja majd a résztvevőket. Sokat fogunk csatangolni a közeli játszótéren\, ha nagy a meleg pancsolunk\, hűsölünk a virágos szökökutban\, de játékos jógaórákkal is várjuk a gyerekeket. \n\n\n\nVárunk szeretettel nyári napközis táborunkba!\nDélelőtt tancolunk minden féle modern zenére.\nDélután Akril festékkel festővászonra tanulunk festeni és 3 D rajzot készíteni.\nMesés verses játékos gyerek joga délutánonként.\nMeleg ebéddel\, várjuk a gyerekeket.\n \nAhogy már eddig is megszoktátok e-mailben tudtok jelentkezni: info @ élményfestés . com.\nAz e-mailben kérlek írd meg hogy melyik táborba szeretnétek jelentkezni és melyik időpontban\, gyermek nevét\, életkorát\, címet amire a számlát kiállíthatom.\n \nUgyanúgy ahogy eddig is 10.000 forint előleg utalásával tudjátok lefoglalni.\nA táborok kis létszámúak azért érdemes előre lefoglalni.\n  \n			\n				\n				\n				\n				\n				További információk\n			\n				\n				\n				\n				\n				\n					\n					\n						Helyszín\n						Dunakeszi\, Katonadomb utca 11.  \n					\n				\n			\n				\n				\n				\n				\n				\n					\n					\n						Nyitás\n						A tábor 8:00 órakor nyitja kapuit\, és 16:00 órakor zár. A programok 9-15 óráig lesznek. \nDélelőttönként kerül sor mindenféle modern zenés táncra\, délután Tempera festékkel fogunk festeni tanulni és 3D rajzot készíteni\, valamint játékos\, jógaórákat tartani.\nKedves ügyfelünk!\nA kosár funkcio jelenleg a weboldalunkon nem  használható ezért kérjük e-mailben jelentkezzen.\nírja meg a kiválasztott program időpontját hány fővel szeretnének részt venni a programon.\nMajd a gyermek nevét életkorát a szülők neve\, címét telefonszáma és válasz levélben küldjük a banki adatokat és a részleteket.\nMegértésüket köszönjük: Élményfestők csapataSzeretettel:  Király Ildikó \n					\n				\n			\n				\n				\n				\n				\n				\n					\n					\n						Ár\n						A tábor díja 54.800 Ft. \n					\n				\n			\n				\n				\n				\n				\n				\n					\n					\n						Étkezés\n						Minden Nap fincsi gyermekbarát meleg ebéddel várjuk a gyerekeket. \n					\n				\n			\n			\n				\n				\n				\n				\n			\n				\n				\n				\n				\n				\n				\n				\n				\n				\n				\n				Vélemények \n			\n				\n				\n				\n				\n				 \n\n\n\n\n\n\n        \n            \n                                                \n\n                                        \n                        SlideTánc és élményfestő táborban vesz részt ezen a héten kislányom. Élvezi a tábor minden pillanatát\, szuper élményekkel jön haza minden nap. Ildikó\, Bea és Viki tündériek. A legjobb választás volt! Biztos\, hogy mi is visszatérők leszünk! \n— Brigitta Bese \nSlideKislányom alig akart hazamenni utolsó napon.\nMindenkinek csak ajánlani tudom. \n—Drahos  Dóra  \nSlideA 6 éves kislányom első tábori élménye Ildikónál volt a táncos élményfestő tábor. Nagyon jól érezte magát és a tábor végén egy gyönyörű festménnyel lett gazdagabb ☺️\nJövőre visszatérünk! ❤ \n— Vajda Anita \n                    \n\n                                    \n            \n        \n         \n			\n			\n				\n				\n				\n				\n			\n				\n				\n			\nKirály IldikóSziasztok! Engem Király Ildikónak hívnak\, és közel egy évtizede foglalkozom festéssel. Majdnem 5 éve nyitottam meg élményfestő stúdiómat Dunakeszin\, ahol nap mint nap foglalkozok festeni vágyó\, lelkes emberekkel. A festés mellett jógaoktatással is foglalkozom. Úgy gondolom\, hogy ez a két terület rendkívül közel áll egymáshoz\, és nagyon jól ki is egészítik egymást. \nNézz szét eseményeim között\, ha van kedved eljönni festeni! 🙂
URL:https://www.elmenyfestes.com/esemeny/tanc-tabor-i-turnus/
LOCATION:Katonadomb utca 11.\, Katonadomb utca 11.\, Dunakeszi\, 2011\, Magyarország
CATEGORIES:Felnőtteknek és gyerekeknek,Festés,Tábor
ATTACH;FMTTYPE=image/jpeg:https://www.elmenyfestes.com/wp-content/uploads/2026/02/IMG_8809.jpeg
END:VEVENT
BEGIN:VEVENT
DTSTART;VALUE=DATE:20260720
DTEND;VALUE=DATE:20260725
DTSTAMP:20260423T010213
CREATED:20250224T163137Z
LAST-MODIFIED:20260403T210810Z
UID:5878-1784505600-1784937599@www.elmenyfestes.com
SUMMARY:Bűvész tábor
DESCRIPTION:Egy tábor tele varázslattal\nA bűvész táborunkban gyeremeked egy csodás hetet tölt majd el a Dunakeszi Katonadombon \, miközben betekinthet a bűvésztrükkök kulisszái mögé! \nA bűvésztrükkök finom mozdulatokat igényelnek\, így fejlesztik gyermeked kézügyességét\, de az önbizalmát is növelik. \nMinden nap kapnak majd egy titkos bűvészkelléket\, valamint maguk is készítenek majd\, hogy demonstrálják neked az aznap tanultakat. \nEgy hét után gyeremedből olyan ügyes bűvészt varázsolunk\, hogy a családi összejöveteleken garantáltan el fog mindenkit kápráztatni! \nFb: Mosoyoga Dunakeszi\nKatonadomb utca 11\, Dunakeszi\nIdőtartam: 5 nap \nBűvész tábor\nSzeretnél igazi bűvésztrükköket tanulni egy profi bűvésztől?\nBevezetünk a szemfényvesztés világába!\nA gyerekek minden nap új bűvész kelléket kapnak a gyerekek\, rengeteg kártya trükkött vihetnek haza a gyerekek🥸\nEgy profi bűvésztől tanulnak\, különböző trükköket\, ami fejleszti a kézügyességüket.\nProblémamegoldó képességüket\, és a kreatív gondolkodásukat.\nVárunk egy szuper cirkuszi kalandra ahol a főszereplő a BŰVÉSZ!\nVárjuk a jelentkezőket akik állat idomárok szeretnének lenni\, illetve azokat a gyerekeket akik szeretnének beöltözni tigrisnek\, oroszlánnak\, cicának vagy lovacskának és megtanulni cirkuszi mutatványokat.\nVárunk szeretettel egy varázslatos napközis táborban!\nProgram:\nJátékos gyermek gerinc jogával szórakoztatjuk a gyerekeket a\nlégkondicionált berendezéssel ellátott szobában .\nMegtanulunk 3-D s rajz technikával Römi kártyát rajzolni.\n 3-D nyomtatóval is nyomtatunk bűvész kellékeket amit a gyerekek haza vihetnek.\n megtanulnak saját maguk is barkácsolni bűvész kellékeket.\nDélelőtt cirkuszi mutatványokat tanulunk\nDélután profi bűvész tanít nekünk szemfényvesztő trükköket.\n Minden nap több új trükköt tanulnak a gyerekek és a kellékeket hazavihetik.\n Fincsi meleg ebédet kapnak a gyerekek viszont az allergiákra tekintettel tízórait és uzsonnát mindenki hozhat magával amit a legjobban szeret.\nPéntek délután cirkuszi bemutató bűvészekkel a szülőknek!\nKedves ügyfelünk!\nA kosár funkcio jelenleg a weboldalunkon nem  használható ezért kérjük e-mailben jelentkezzen.\nírja meg a kiválasztott program időpontját hány fővel szeretnének részt venni a programon.\nMajd a gyermek nevét életkorát a szülők neve\, címét telefonszáma és válasz levélben küldjük a banki adatokat és a részleteket.\nMegértésüket köszönjük: Élményfestők csapataSzeretettel:  Király Ildikó\nKorosztály: 8-14 év\nHeti díj 58800 Ft\nÉrdeklődni 3099-18-177\nJelentkezni: info @ elmenyfestes .com\n			\n				\n				\n				\n				\n				Kiknek ajánljuk nyári táborunkat?\n8-12 év közötti gyerekeknek akiket mindig is elvarázsolt a bűvészet világa és szeretnének kikapcsolódni egy ilyen tábor keretében.  \n			\n				\n				\n				\n				\n				További információk\n			\n				\n				\n				\n				\n				\n					\n					\n						Helyszín\n						Dunakeszi\, Katonadomb utca 11– \n					\n				\n			\n				\n				\n				\n				\n				\n					\n					\n						Ár\n						A tábor díja 58.800Ft \n					\n				\n			\n			\n				\n				\n				\n				\n				\n				\n				\n				\n				\n				\n			\n			\n				\n				\n				\n				\n			\n				\n				\n				\n				\n				\n				\n				\n				\n				\n				\n				Vélemények \n			\n				\n				\n				\n				\n				 \n\n\n\n\n\n\n        \n            \n                                                \n\n                                        \n                        SlideKislányom nagyon jól érezte magát. Nagyon sok bűvésztrükköt tanult a táborban\, amivel minden nap elkápráztatott minket. Csodás képeket festett\, aminek a készítésekor is szintén sokat tanult úgy\, hogy végig érezte a sikerélményt. Köszönjük az oktatók végig nagyon türelmes\, szerető és közösségépítő hozzáállását. A héten készült egyik kép ágya fölé került. Köszönjük szépen az élményeket\, a személyiség és képességfejlesztést! \n— Tivald Orsolya \nSlideA tábor izgalmas\, érdekes\, a gyerekeket jól lefoglalja. Gyönyörű festmények készülnek\, a kísérletek érdekesek. A szervezők maximálisan odafigyelnek a gyerekekre. \n— Szentpéteri Viktória  \nSlideNagyon köszönjük a táborozást\, a kislányunk jól érezte magát a táborban 🙏🙂 \n—Levente Erdős \n                    \n\n                                    \n            \n        \n         \n			\n			\n				\n				\n				\n				\n			\n				\n				\n			\nKirály IldikóSziasztok! Engem Király Ildikónak hívnak\, és közel egy évtizede foglalkozom festéssel. Majdnem 5 éve nyitottam meg élményfestő stúdiómat Dunakeszin\, ahol nap mint nap foglalkozok festeni vágyó\, lelkes emberekkel. A festés mellett jógaoktatással is foglalkozom. Úgy gondolom\, hogy ez a két terület rendkívül közel áll egymáshoz\, és nagyon jól ki is egészítik egymást. \nNézz szét eseményeim között\, ha van kedved eljönni festeni! 🙂
URL:https://www.elmenyfestes.com/esemeny/buvesz-tabor/
LOCATION:Katonadomb utca 11.\, Katonadomb utca 11.\, Dunakeszi\, 2011\, Magyarország
CATEGORIES:Felnőtteknek és gyerekeknek,Festés,Tábor
ATTACH;FMTTYPE=image/jpeg:https://www.elmenyfestes.com/wp-content/uploads/2026/02/IMG_8807.jpeg
END:VEVENT
BEGIN:VEVENT
DTSTART;VALUE=DATE:20260727
DTEND;VALUE=DATE:20260801
DTSTAMP:20260423T010213
CREATED:20250309T190734Z
LAST-MODIFIED:20260403T210031Z
UID:6095-1785110400-1785542399@www.elmenyfestes.com
SUMMARY:Tánc tábor II. turnus Julis 27-31.
DESCRIPTION:gyerekek esernyővelgyerekek kézenfogva szaladgálnakgyerekek táncolnakgyerkek körbe körbe mennek                    \n\n                                    \n            \n        \n         \n			\n				\n				\n				\n				\n				\n			\n			\n				\n				\n				\n				\n				\n				\n				\n				\n				\n				Nyári tánctábor gyerekeknek!\nKacagós Táncos nyári szünet garantált!\n \nSzeretnél modern táncot tanulni\, szuper zenékre?\n \nSzeretnél sokat lenni a szabadban\, nevetgélni és új barátokat szerezni?\n \nItt a helyed! Téged várunk!\n\n A napot fantasztikus Duna-parti környezetben töltjük és a Katonadomb játszótérre megyünk ki játszani. \n\n \nTáncos táborunkban többféle táncfajtával ismerkedhetnek meg\, a modern táncot tanulunk szivárvány esernyővel amit a gyerekek tábor végén haza is vihetnek\, de ezen kívül lesz\,  hulahoppon át\, a szalagtáncig. Különféle kellékeket is fogunk használni\, pl. szalmakalapot\, melyekkel még izgalmasabbá tesszük a koreográfiát. Péntek délután pedig egy táncbemutatóval zárjuk a hetet.\n\n\n\n\nNagy melegben pancsolunk\, hűsölünk a virágos szökőkútban\, de játékos jógaórákkal is várjuk a gyerekeket. \n\n\n\nVárunk szeretettel nyári napközis táborunkba!\nDélelőtt tancolunk minden féle modern zenére.\nDélután Tempera  festékkel tanulunk festeni és 3 D rajzot készíteni.\nMesés verses játékos gyerek joga délutánonként.
URL:https://www.elmenyfestes.com/esemeny/tanc-tabor-ii-turnus/
LOCATION:Katonadomb utca 11.\, Katonadomb utca 11.\, Dunakeszi\, 2011\, Magyarország
CATEGORIES:Felnőtteknek és gyerekeknek,Festés,Tábor
ATTACH;FMTTYPE=image/jpeg:https://www.elmenyfestes.com/wp-content/uploads/2025/02/7.jpg
END:VEVENT
END:VCALENDAR