BEGIN:VCALENDAR
VERSION:2.0
PRODID:-//Mosoyoga Dunakeszi - ECPv6.10.1.1//NONSGML v1.0//EN
CALSCALE:GREGORIAN
METHOD:PUBLISH
X-ORIGINAL-URL:https://www.elmenyfestes.com
X-WR-CALDESC:Events for Mosoyoga Dunakeszi
REFRESH-INTERVAL;VALUE=DURATION:PT1H
X-Robots-Tag:noindex
X-PUBLISHED-TTL:PT1H
BEGIN:VTIMEZONE
TZID:Europe/Paris
BEGIN:DAYLIGHT
TZOFFSETFROM:+0100
TZOFFSETTO:+0200
TZNAME:CEST
DTSTART:20250330T010000
END:DAYLIGHT
BEGIN:STANDARD
TZOFFSETFROM:+0200
TZOFFSETTO:+0100
TZNAME:CET
DTSTART:20251026T010000
END:STANDARD
END:VTIMEZONE
BEGIN:VEVENT
DTSTART;TZID=Europe/Paris:20251027T080000
DTEND;TZID=Europe/Paris:20251030T163000
DTSTAMP:20260423T073617
CREATED:20250223T203051Z
LAST-MODIFIED:20251014T061923Z
UID:5841-1761552000-1761841800@www.elmenyfestes.com
SUMMARY:Őszi festő tábor - október 27-30.
DESCRIPTION:Őszi festés és kézműveskedés\nKézműves rajztáborban a kreatív tevékenységek állnak a középpontban\, de azért lesz játékos gyermek gerinc joga is\, és szabad játék a Katonadombi játszótéren.Időpont október 27-30.Program: \n\n3D-s rajz technikák titokzatos technikák meg tanulása\nÁsvány gyertya készítés\nDeszka kép készítés égetéses technikával\nAgyag virág készítés\nUV gyanta ékszer készíté\n\nKinek ajánljuk őszi táborunkat?\n2-5 osztályos  gyerekek részére\,Akik imádnak barkácsolni és kreatívkodni.Nem baj\, ha még nem volt tapasztalatuk a felsorolt kézműves programokban\, hiszen mindent lépésről lépésre megtanítunk. Így mindenki kézügyességéttől és képességétől függetlenül ugyan olyan ügyes alkotást fog készíteni.Az ár tartalmazza délben a meleg ebédet\, ezért kérlek tízórait és uzsonnát hoz magaddal.Az őszi szünetben nem muszáj egész hétre bejelentkezned jöhetsz csak egy napra is.Ár táblázat: napi díj 14 000 Ft/nap: fő2 napra: 13 000 / nap / fő3 napra 11 000 Ft / nap / fő4 napra: 10 000 Ft / nap / főA táborba bármikor érkezhetsz nyitvatartási időn belül\, illetve hamarabb is elmehetsz.Nyitva tartás 8-16.30 közöttKézműves programok 9-14.00 között.Jelentkezni: info@élményfestés.comÉrdeklődni: 30 / 99-18-177Helyszín: Dunakeszi Katonadomb utca 11.Király Ildikó \n  \n  \n			\n			\n				\n				\n				\n				\n			\n				\n				\n				\n				\n				\n				\n			\n				\n				\n				\n				\n				\n				\n				\n				\n				\n				További információk\n			\n				\n				\n				\n				\n				\n					\n					\n						Helyszín\n						Dunakeszi Katonadomb utca 11. \n					\n				\n			\n				\n				\n				\n				\n				\n					\n					\n						Étkezés\n						Meleg ebédet adunk\, viszont uzsonnát és reggelit hozz magaddal! \n					\n				\n			\n				\n				\n				\n				\n				\n				\n				\n					\n\n	\n			\n			\n									\n						Foglalás\n						\n							Válassz egy lehetőséget1 nap2 nap3 nap4 napTörlés						\n					\n							\n		\n		\n		\n		\n			\n	\n	\n    \n                                    \n                    1                \n                            \n                    2                \n                            \n                    3                \n                            \n                    4                \n                            \n                    5                \n                        \n\n\n	Kosárba teszem\n\n	\n	\n	\n	\n\n		\n	\n	\n\n\n				\n			\n			\n				\n				\n				\n				\n			\n				\n				\n			\nKirály IldikóSziasztok! Engem Király Ildikónak hívnak\, és közel egy évtizede foglalkozom festéssel. Majdnem 5 éve nyitottam meg élményfestő stúdiómat Dunakeszin\, ahol nap mint nap foglalkozok festeni vágyó\, lelkes emberekkel. A festés mellett jógaoktatással is foglalkozom. Úgy gondolom\, hogy ez a két terület rendkívül közel áll egymáshoz\, és nagyon jól ki is egészítik egymást. \nNézz szét eseményeim között\, ha van kedved eljönni festeni! 🙂
URL:https://www.elmenyfestes.com/esemeny/oszi-tabor-2025/
LOCATION:Katonadomb utca 11.\, Katonadomb utca 11.\, Dunakeszi\, 2011\, Magyarország
CATEGORIES:Felnőtteknek és gyerekeknek,Festés
ATTACH;FMTTYPE=image/jpeg:https://www.elmenyfestes.com/wp-content/uploads/2024/10/IMG_0781-scaled.jpg
END:VEVENT
END:VCALENDAR