BEGIN:VCALENDAR
VERSION:2.0
PRODID:-//Mosoyoga Dunakeszi - ECPv6.10.1.1//NONSGML v1.0//EN
CALSCALE:GREGORIAN
METHOD:PUBLISH
X-WR-CALNAME:Mosoyoga Dunakeszi
X-ORIGINAL-URL:https://www.elmenyfestes.com
X-WR-CALDESC:Events for Mosoyoga Dunakeszi
REFRESH-INTERVAL;VALUE=DURATION:PT1H
X-Robots-Tag:noindex
X-PUBLISHED-TTL:PT1H
BEGIN:VTIMEZONE
TZID:Europe/Paris
BEGIN:DAYLIGHT
TZOFFSETFROM:+0100
TZOFFSETTO:+0200
TZNAME:CEST
DTSTART:20260329T010000
END:DAYLIGHT
BEGIN:STANDARD
TZOFFSETFROM:+0200
TZOFFSETTO:+0100
TZNAME:CET
DTSTART:20261025T010000
END:STANDARD
END:VTIMEZONE
BEGIN:VEVENT
DTSTART;TZID=Europe/Paris:20260201T150000
DTEND;TZID=Europe/Paris:20260201T170000
DTSTAMP:20260423T010316
CREATED:20260119T211211Z
LAST-MODIFIED:20260119T211219Z
UID:7310-1769958000-1769965200@www.elmenyfestes.com
SUMMARY:3D Nyomtatott csuklós állatfigurák nyomtatása festése
DESCRIPTION:Király IldikóSziasztok! Engem Király Ildikónak hívnak\, és közel egy évtizede foglalkozom festéssel. Majdnem 5 éve nyitottam meg élményfestő stúdiómat Dunakeszin\, ahol nap mint nap foglalkozok festeni vágyó\, lelkes emberekkel. A festés mellett jógaoktatással is foglalkozom. Úgy gondolom\, hogy ez a két terület rendkívül közel áll egymáshoz\, és nagyon jól ki is egészítik egymást. \nNézz szét eseményeim között\, ha van kedved eljönni festeni! 🙂
URL:https://www.elmenyfestes.com/esemeny/3d-nyomtatott-csuklos-allatfigurak-nyomtatasa-festese/
LOCATION:Katonadomb utca 11.\, Katonadomb utca 11.\, Dunakeszi\, 2011\, Magyarország
CATEGORIES:Felnőtteknek és gyerekeknek
ATTACH;FMTTYPE=image/jpeg:https://www.elmenyfestes.com/wp-content/uploads/2026/01/IMG_7890-scaled.jpeg
END:VEVENT
END:VCALENDAR