BEGIN:VCALENDAR
VERSION:2.0
PRODID:-//Mosoyoga Dunakeszi - ECPv6.10.1.1//NONSGML v1.0//EN
CALSCALE:GREGORIAN
METHOD:PUBLISH
X-WR-CALNAME:Mosoyoga Dunakeszi
X-ORIGINAL-URL:https://www.elmenyfestes.com
X-WR-CALDESC:Events for Mosoyoga Dunakeszi
REFRESH-INTERVAL;VALUE=DURATION:PT1H
X-Robots-Tag:noindex
X-PUBLISHED-TTL:PT1H
BEGIN:VTIMEZONE
TZID:Europe/Paris
BEGIN:DAYLIGHT
TZOFFSETFROM:+0100
TZOFFSETTO:+0200
TZNAME:CEST
DTSTART:20260329T010000
END:DAYLIGHT
BEGIN:STANDARD
TZOFFSETFROM:+0200
TZOFFSETTO:+0100
TZNAME:CET
DTSTART:20261025T010000
END:STANDARD
END:VTIMEZONE
BEGIN:VEVENT
DTSTART;VALUE=DATE:20260629
DTEND;VALUE=DATE:20260711
DTSTAMP:20260423T010254
CREATED:20250309T191936Z
LAST-MODIFIED:20260405T200848Z
UID:6111-1782691200-1783727999@www.elmenyfestes.com
SUMMARY:3D nyomtató kreatív nyári napközi
DESCRIPTION:3D Nyomtató Nyári napközi- Alkoss a jövőből egy darabot!\nTöbb mint képernyőidő – alkotás\, élmény\, fejlődés egy héten át… \nA nyári táborunkban a gyerekek nem egész nap a számítógép előtt ülnek\, hanem alkotnak\, terveznek és a saját kezükkel hoznak létre valódi tárgyakat. \nGyermeked megismerkedhet nálunk 3-D nyomtamtás rejtelmeivel és elkészítheti első saját játékát!A digitális tudás egyre fontosabb lesz hétköznapi életünkben.A jövőhöz szükséges készségek\, a probléma megoldástól és a logikus gondolkodástól egészen a kreativitásig és a csapat munkáig. Miközben gyermeked felfedezi a 3D nyomtató által tervezhető világot elkészítheti sajátmaga által kiválasztott játékokat. Pénteken te szülőként is betekintést nyerhetsz a 3D nyomtatás világába. \n3D nyomtatás foglalkozásokkal indítjuk a napot minden délelőtt\, és kifejezetten gyerekbarát\, kreatív formában zajlanak. A hangsúly nem a „gombnyomogatáson”\, hanem az ötlet\, tárgy\, élmény folyamaton van. \nMit csinálnak a gyerekek a gyakorlatban? \n\nMegismerkednek a 3D nyomtatás alapjaival – érthetően\, játékosan\n Saját tárgyakat választanak és alakítanak ki\n Minden gyermek külön 3D nyomtatóval dolgozik\, így valóban részese a folyamatnak\n Kézzel is alkotnak:\n\n\n\nnyomtatott elemek összeillesztése\nkipróbálás\, használat\nfestés és díszítés a délutáni élményfestés során\n\n\n\nMi fejlődik közben észrevétlenül? \n\nProblémamegoldó gondolkodás\nTérlátás és kreativitás\n Önállóság és sikerélmény\nMagabiztos bemutatás („ezt én csináltam”)\n\nA hét végére minden gyermek több\, saját maga által készített és díszített tárggyal tér haza\, miközben megtapasztalja\, hogy a digitális világ nem csak fogyasztásra\, hanem alkotásra is való. \nÉs mi a következő lépés? \nA tábor egy kedvcsináló betekintés a 3D tervezés és nyomtatás világába. Az utolsó napon rövid szülői tájékoztatót tartunk\, ahol bemutatjuk: \n\nmiben fejlődtek a gyerekek a hét során\,\nés hogyan lehet ezt a tudást egy 4 hónapos\, fokozatos tanfolyamon tovább építeni.\n\nFontos: a gyerekek nem „tanfolyamon ülnek”\, hanem alkotó élményt kapnak – a tanulás pedig közben történik. \n  \nKreatív nyári napköziGyorsan fogynak a helyek\, de még nem késő csatlakoznod! Ha szeretnél egy fantasztikus hetet tölteni a 3D nyomtatás világában\, szórakoztató módon. \n\nÉrdekes és különleges 3D játékokat festünk. \nLogikai játékok\, sakk és Társas játék party.\nSok mozgás és játékos gyermek gerinc joga.\nFantasztikus Duna-parti környezetben.\nVicces kutya bemutató\nSok nevetés és vidámság.\nKézműveskedés.\n3D-s Rajztechnikák\nLesz pancsolás a gumi szökőkútban\nDélben fincsi gyerekbarát ebéddel várjuk a gyerekeket.\nSzabad játék a Katonadombi játszótéren.\n\nVárunk szeretettel! \n10000 Ft előleg befizetésével lehet lefoglalni.Jelentkezni: info@elmenyfestes.comA csoport létszáma 12 fő\, ezért jelentkezz be minél hamarabb.Szeretettel:  Király Ildikó \n  \n			\n				\n				\n				\n				\n				Kiknek ajánljuk nyári táborunkat?\n9-14 év közötti gyerekeknek akik imádnak kreatívkodni! Nem baj ha még nem volt tapasztalatuk a  számítógéppel és 3-D nyomtatóval\, sőt kifejezetten kezdőknek ajánljuk. Tapasztalattól függetlenül ajánljuk mindenkinek táborunkat.\nKedves ügyfelünk!\nA kosár funkcio jelenleg a weboldalunkon nem  használható ezért kérjük e-mailben jelentkezzen.\nírja meg a kiválasztott program időpontját hány fővel szeretnének részt venni a programon\, gyermek nevét éeltkorát\, szülö neve telefonszáma\, utaló neve\, címe és válasz levélben küldjük a banki adatokat és a részleteket.\nMegértésüket köszönjük: Élményfestők csapata \n			\n			\n				\n				\n				\n				\n			\n				\n				\n				\n				\n				\n				\n				\n				\n				\n				\n				Vélemények \n			\n				\n				\n				\n				\n				 \n\n\n\n\n\n\n        \n            \n                                                \n\n                                        \n                        SlideSzuper 1 hetes tábor volt\, tele játékos és ügyességi feladatokkal\, kreatív foglalkozásokkal és festéssel. Ajánlani tudom :)) és a bónusz a cuki Mázli kutya volt \n— Visy B. \nSlideÉlménydús\, érdekes programok\, kedves táborvezetők\, családias légkör. \n— Kovács Zsuzsanna \nSlideSzuper kedves Szervező\, helyszín is meseszép...jó szívvel ajánlom...SZUPER! \n—Drahos  Dóra  \n                    \n\n                                    \n            \n        \n         \n			\n			\n				\n				\n				\n				\n			\n				\n				\n				\n				\n				\n				\n				\n				\n				\n				\n				 \n\n\n\n\n        \n            \n                                                \n\n                                        \n                        festő tábor hero sectionvégeredmény 4festo tabor eredmeny4                    \n\n                                    \n            \n        \n         \n			\n			\n				\n				\n				\n				\n				\n				\n				\n				\n				\n				További információk\n			\n				\n				\n				\n				\n				\n					\n					\n						Helyszín\n						Dunakeszi Katonadomb utca 11. \n					\n				\n			\n				\n				\n				\n				\n				\n					\n					\n						Étkezés\n						Finom gyerek barát meleg ebéddel várjuk a gyermekeket  \n					\n				\n			\n				\n				\n				\n				\n				\n					\n					\n						Ár\n						A tábor díja 54.800Ft.\n					\n				\n			\n			\n				\n				\n				\n				\n			\n				\n				\n			\nKirály IldikóSziasztok! Engem Király Ildikónak hívnak\, és közel egy évtizede foglalkozom festéssel. Majdnem 5 éve nyitottam meg élményfestő stúdiómat Dunakeszin\, ahol nap mint nap foglalkozok festeni vágyó\, lelkes emberekkel. A festés mellett jógaoktatással is foglalkozom. Úgy gondolom\, hogy ez a két terület rendkívül közel áll egymáshoz\, és nagyon jól ki is egészítik egymást. \nNézz szét eseményeim között\, ha van kedved eljönni festeni! 🙂
URL:https://www.elmenyfestes.com/esemeny/3d-nyomtato-kreativ-nyari-tabor/
LOCATION:Katonadomb utca 11.\, Katonadomb utca 11.\, Dunakeszi\, 2011\, Magyarország
CATEGORIES:Felnőtteknek és gyerekeknek,Festés,Tábor
ATTACH;FMTTYPE=image/jpeg:https://www.elmenyfestes.com/wp-content/uploads/2026/02/IMG_8808.jpeg
END:VEVENT
END:VCALENDAR