BEGIN:VCALENDAR
VERSION:2.0
PRODID:-//Mosoyoga Dunakeszi - ECPv6.10.1.1//NONSGML v1.0//EN
CALSCALE:GREGORIAN
METHOD:PUBLISH
X-WR-CALNAME:Mosoyoga Dunakeszi
X-ORIGINAL-URL:https://www.elmenyfestes.com
X-WR-CALDESC:Events for Mosoyoga Dunakeszi
REFRESH-INTERVAL;VALUE=DURATION:PT1H
X-Robots-Tag:noindex
X-PUBLISHED-TTL:PT1H
BEGIN:VTIMEZONE
TZID:Europe/Paris
BEGIN:DAYLIGHT
TZOFFSETFROM:+0100
TZOFFSETTO:+0200
TZNAME:CEST
DTSTART:20260329T010000
END:DAYLIGHT
BEGIN:STANDARD
TZOFFSETFROM:+0200
TZOFFSETTO:+0100
TZNAME:CET
DTSTART:20261025T010000
END:STANDARD
END:VTIMEZONE
BEGIN:VEVENT
DTSTART;VALUE=DATE:20260803
DTEND;VALUE=DATE:20260808
DTSTAMP:20260423T055759
CREATED:20250311T191741Z
LAST-MODIFIED:20260403T204802Z
UID:6120-1785715200-1786147199@www.elmenyfestes.com
SUMMARY:Kézműves - augusztus 3-7.
DESCRIPTION:Festés és kézműveskedés 5 napon át\nIdén is megrendezésre kerül a táborunk\, melyben várjuk a gyerekeket egy 5 napos nyári kalandra\, ahol rengeteget fognak festeni\, 3D rajztechnikákat tanulni és szórakozni! \nNem csak kézműveskedünk\, hanem játékos gyermek gerinc jóga órák is lesznek. Kirándulunk majd a Duna-parton\, játszunk a Katonadombi játszótéren\, kártyazunk és társasozunk is! \n			\n				\n				\n				\n				\n				A kreatív kézműves foglalkozásaink a következőket foglalják magukba: \n\nAgyagozunk\nKészítünk szivárványos habgyurmából állatfigurákat\nKutyulunk illatos folykékony szappant\nUV gyantából medált készítünk.\n\nKézműves foglalkozásainkon festünk vászonra akril festékkel.\, valamint különböző rajztechnikákat tanulni. \n			\n				\n				\n				\n				\n				Kiknek ajánljuk nyári táborunkat?\n6-14 év közötti gyerekeknek akik imádnak kreatívkodni! Nem baj ha még nem volt tapasztalatuk a festéssel\, rajzolással\, vagy a kézműves tevékenységek bármelyikével. Tapasztalattól függetlenül ajánljuk mindenkinek táborunkat.\nKedves ügyfelünk!\nA kosár funkcio jelenleg a weboldalunkon nem  használható ezért kérjük e-mailben jelentkezzen.\nírja meg a kiválasztott program időpontját hány fővel szeretnének részt venni a programon.\nMajd a gyermek nevét életkorát a szülők neve\, címét telefonszáma és válasz levélben küldjük a banki adatokat és a részleteket.\nMegértésüket köszönjük: Élményfestők csapataSzeretettel:  Király Ildikó \n			\n			\n				\n				\n				\n				\n				\n				\n				\n				\n				\n				\n			\n				\n				\n				\n				\n				\n			\n			\n				\n				\n				\n				\n			\n				\n				\n				\n				\n				\n				\n				\n				\n				\n				\n				Vélemények \n			\n				\n				\n				\n				\n				 \n\n\n\n\n\n\n        \n            \n                                                \n\n                                        \n                        SlideSzuper 1 hetes tábor volt\, tele játékos és ügyességi feladatokkal\, kreatív foglalkozásokkal és festéssel. Ajánlani tudom :)) és a bónusz a cuki Mázli kutya volt \n— Visy B. \nSlideÉlménydús\, érdekes programok\, kedves táborvezetők\, családias légkör. \n— Kovács Zsuzsanna \nSlideSzuper kedves Szervező\, helyszín is meseszép...jó szívvel ajánlom...SZUPER! \n—Drahos  Dóra  \n                    \n\n                                    \n            \n        \n         \n			\n			\n				\n				\n				\n				\n			\n				\n				\n				\n				\n				\n				\n				\n				\n				\n				\n				 \n\n\n\n\n        \n            \n                                                \n\n                                        \n                        festő tábor hero sectionvégeredmény 4festo tabor eredmeny4                    \n\n                                    \n            \n        \n         \n			\n			\n				\n				\n				\n				\n				\n				\n				\n				\n				\n				További információk\n			\n				\n				\n				\n				\n				\n					\n					\n						Helyszín\n						Dunakeszi Katonadomb utca 11. \n					\n				\n			\n				\n				\n				\n				\n				\n					\n					\n						Étkezés\n						 gyermekbarát finom ebédde várjuk a gyerekeket  \n					\n				\n			\n				\n				\n				\n				\n				\n					\n					\n						Ár\n						A tábor díja 58.800Ft. \n					\n				\n			\n			\n				\n				\n				\n				\n			\n				\n				\n			\nKirály IldikóSziasztok! Engem Király Ildikónak hívnak\, és közel egy évtizede foglalkozom festéssel. Majdnem 5 éve nyitottam meg élményfestő stúdiómat Dunakeszin\, ahol nap mint nap foglalkozok festeni vágyó\, lelkes emberekkel. A festés mellett jógaoktatással is foglalkozom. Úgy gondolom\, hogy ez a két terület rendkívül közel áll egymáshoz\, és nagyon jól ki is egészítik egymást. \nNézz szét eseményeim között\, ha van kedved eljönni festeni! 🙂
URL:https://www.elmenyfestes.com/esemeny/festo-es-kreativ-augusztus-4-8/
LOCATION:Katonadomb utca 11.\, Katonadomb utca 11.\, Dunakeszi\, 2011\, Magyarország
CATEGORIES:Felnőtteknek és gyerekeknek,Festés,Tábor
ATTACH;FMTTYPE=image/jpeg:https://www.elmenyfestes.com/wp-content/uploads/2026/02/IMG_8805.jpeg
END:VEVENT
END:VCALENDAR