BEGIN:VCALENDAR
VERSION:2.0
PRODID:-//Mosoyoga Dunakeszi - ECPv6.10.1.1//NONSGML v1.0//EN
CALSCALE:GREGORIAN
METHOD:PUBLISH
X-WR-CALNAME:Mosoyoga Dunakeszi
X-ORIGINAL-URL:https://www.elmenyfestes.com
X-WR-CALDESC:Events for Mosoyoga Dunakeszi
REFRESH-INTERVAL;VALUE=DURATION:PT1H
X-Robots-Tag:noindex
X-PUBLISHED-TTL:PT1H
BEGIN:VTIMEZONE
TZID:Europe/Paris
BEGIN:DAYLIGHT
TZOFFSETFROM:+0100
TZOFFSETTO:+0200
TZNAME:CEST
DTSTART:20260329T010000
END:DAYLIGHT
BEGIN:STANDARD
TZOFFSETFROM:+0200
TZOFFSETTO:+0100
TZNAME:CET
DTSTART:20261025T010000
END:STANDARD
END:VTIMEZONE
BEGIN:VEVENT
DTSTART;TZID=Europe/Paris:20260206T160000
DTEND;TZID=Europe/Paris:20260206T190000
DTSTAMP:20260425T022131
CREATED:20250817T122840Z
LAST-MODIFIED:20260118T131410Z
UID:6697-1770393600-1770404400@www.elmenyfestes.com
SUMMARY:Kalapos hölgy nyaklánccal
DESCRIPTION:Tedd kosárba\, és alkosd meg te is!\n\n			\n				\n				\n				\n				\n				\n				\n				\n					\n	\n	\n		\n		\n    \n                                    \n                    1                \n                            \n                    2                \n                            \n                    3                \n                            \n                    4                \n                            \n                    5                \n                        \n\n\n		Kosárba teszem\n\n			\n\n	\n\n				\n			\n			\n				\n				\n				\n				\n				\n				\n				\n				\n				\n				\n					\n					\n						\n						Felnőtteknek \n					\n				\n			\n				\n				\n				\n				\n				\n					\n					\n						\n						40x50cm\n					\n				\n			\n				\n				\n				\n				\n				\n					\n					\n						\n						3 óra\n					\n				\n			\n				\n				\n				\n				\n				\n					\n					\n						\n						12.490 Ft\n					\n				\n			\n				\n				\n				\n				\n				\n					\n					\n						\n						2120 Dunakeszi\, Katonadomb 11. \n					\n				\n			\n				\n				\n				\n				\n				Leírás\n			\n				\n				\n				\n				\n				Képzeld el… egy elegáns hölgy\, hatalmas kalapban\, titokzatos mosollyal és egy különleges nyaklánccal\, ami csak rád vár\, hogy megtervezd! 💎👒 \nMost rajtad a sor\, hogy ecsetet ragadj\, és életre keltsd ezt a különleges karaktert! Legyen romantikus? Menő és vagány? Vagy épp vintage hangulatú\, mint egy régi film sztárja? A döntés a tiéd! 🎬🖌️ \n🎨 Nem kell profi művésznek lenned – csak a kreativitásodra van szükség! Díszítsd a kalapot\, tervezd meg a nyakláncot\, játssz a színekkel és formákkal! Ez nem csak festés – ez saját stílusod bemutatása egy vásznon! \nGyere\, csatlakozz\, és mutasd meg\, milyen arcot adsz a kalapos hölgynek! 👩‍🎨✨ \n  \nMinden felszerelést bíztosítok!  \n\nKötényt\, ecsetet\nkézfertőtlenítőt\nbekészítek üditőket\, sütiket és pogácsát is.\n\n			\n				\n				\n				\n				\n				Ha már elmultál 18 éves\, egy pohár borral is megkínállak. Neked csak a jó kedvedet kell hoznod! \nPrivát festés: \nEgy egyéni festésen csak te\, és akiket elhívsz lesznek jelen. Ha szeretnéd ezt a képet saját keretek közt megfesteni\, akkor kérlek vedd fel velünk a kapcsolatot! \nAkril festék tudnivalók \nAz akrilfesték vízzel hígítható\, szagtalan festék\, de műanyagra keményedik ha megszárad.Nagy előnye\, hogy nem fog leázni és nem kopik meg a színe\, jó pár év múlva is megőrzi eredeti fényét.Allergén mentes\, bárki használhatja\, kisgyermekek és kismamák is.A ruhádból frissen még kijön\, rászáradva sajnos már nem\, ezért érdemes olyan öltözéket választani\, amit nem sajnálsz. \nFestés menete: \nA kiválasztott festményt jól látható helyre ki fogom függeszteni mintának\, de ettől te eltérhetsz a saját ízlésed szerint. A te saját műved mindig sokkal szebb.Együtt fogunk haladni\, azaz én is elkezdem megfesteni a képet egy nagy állványon\, minden mozdulatot megmutatok\, így könnyen leutánozhatod és el tudod készíteni a saját képedet. Lehetőséged van más színeket is kérni\, hogy egy egyedi\, különleges képet alkothass.Ha lemaradsz vagy elakadsz\, akkor sincs semmi gond\, szólsz nekem\, és szívesen segítek.Mindenkinek sikerül befejezni a képet\, így biztos lehetsz benne\, hogy neked is sikerülni fog egy remekművet alkotni. \nA helyek száma korlátozott\, ezért kérlek\, jelentkezz be. \n(Az időpontban a változtatás jogát fenntartjuk! A festés elmaradása esetén az árat visszatérítjük. Megérteseteket köszönjük!) \n			\n				További információk a felnőtt festésről\n			\n			\n				\n				\n				\n				\n			\n				\n				\n			\nKirály IldikóSziasztok! Engem Király Ildikónak hívnak\, és közel egy évtizede foglalkozom festéssel. Majdnem 5 éve nyitottam meg élményfestő stúdiómat Dunakeszin\, ahol nap mint nap foglalkozok festeni vágyó\, lelkes emberekkel. A festés mellett jógaoktatással is foglalkozom. Úgy gondolom\, hogy ez a két terület rendkívül közel áll egymáshoz\, és nagyon jól ki is egészítik egymást. \nNézz szét eseményeim között\, ha van kedved eljönni festeni! 🙂
URL:https://www.elmenyfestes.com/esemeny/kalapos-holgy-nyaklanccal/
LOCATION:Katonadomb utca 11.\, Katonadomb utca 11.\, Dunakeszi\, 2011\, Magyarország
CATEGORIES:Festés,Gyerekeknek
ATTACH;FMTTYPE=image/jpeg:https://www.elmenyfestes.com/wp-content/uploads/2025/03/IMG_8300-scaled.jpg
END:VEVENT
BEGIN:VEVENT
DTSTART;TZID=Europe/Paris:20260208T160000
DTEND;TZID=Europe/Paris:20260208T183000
DTSTAMP:20260425T022132
CREATED:20250111T235133Z
LAST-MODIFIED:20260114T134541Z
UID:4862-1770566400-1770575400@www.elmenyfestes.com
SUMMARY:Szerelmes manók
DESCRIPTION:5 készleten \n\n	\n	\n		\n		\n    \n                                    \n                    1                \n                            \n                    2                \n                            \n                    3                \n                            \n                    4                \n                            \n                    5                \n                        \n\n\n		Kosárba teszem\n\n			\n\n	\n\n				\n			\n			\n				\n				\n				\n				\n				\n				\n				\n				\n				\n				\n					\n					\n						\n						\n					\n				\n			\n				\n				\n				\n				\n				\n					\n					\n						\n						Gyerekeknek \n					\n				\n			\n				\n				\n				\n				\n				\n					\n					\n						\n						30x40cm v agy 50*40cm \n					\n				\n			\n				\n				\n				\n				\n				\n					\n					\n						\n						2 óra \n					\n				\n			\n				\n				\n				\n				\n				\n					\n					\n						\n						9.800 Ft vagy 12990Ft \n					\n				\n			\n				\n				\n				\n				\n				\n					\n					\n						\n						2120 Dunakeszi\, Katonadomb utca 11. \n					\n				\n			\n				\n				\n				\n				\n				Leírás \n			\n				\n				\n				\n				\n				Kiválaszthatod\, hogy a kislányt vagy a kisfiú manót szeretnéd megfesteni. 3*40cm vászonra csak az rgyik manó fér el.\n40*50cm vászonra mindkettő elfér \, ára 12990ft\nMegfesthetitek párosan is\, ezeket a cuki kismanokat akár szívecske nélkül is. Lehet anyalánya festés vagy tesós is.\nMinden felszerelést bíztosítok!  \n\nKötényt\, ecsetet\nkézfertőtlenítőt\nbekészítek üditőket\, sütiket és pogácsát is.\n\nSzülőként akár te is csatlakozhatsz\, és részetek lehet egy szuper családi kikapcsolódásban\, ha te is megfested a képet gyermekeddel együtt – ilyenkor magadnak is kell jegyet foglalnod \n  \n			\n				\n				\n				\n				\n				Festés menete: \nA kiválasztott festményt jól látható helyre ki fogom függeszteni mintának\, de a gyerekek eltérhetnek ettől a saját ízlésük szerint. A ti művetek mindig sokkal szebb 🙂 \nEgyütt fogunk haladni\, azaz én is elkezdem megfesteni a képet egy nagy állványon\, minden mozdulatot megmutatok\, így könnyen leutánozhatják és el tudják készíteni a saját képüket. Lehetősége van a gyerekeknek más színekkel is dolgozni\, hogy egy egyedi\, különleges képet alkothasson\, pont olyat ami neki tetszik. \nHa lemaradás\, vagy elakadás van\, megyek és segítek 🙂Mindenkinek sikerül befejezni a képet\, így biztos lehetsz benne\, hogy gyeremeked egy fülig érő mosollyal és egy remekművel fog távozni! \nA helyek száma korlátozott\, ezért kérlek\, jelentkezz be. \n(Az időpontban a változtatás jogát fenntartjuk! A festés elmaradása esetén az árat visszatérítjük. Megérteseteket köszönjük!) \n			\n				További információk a gyermekfestésről\n			\n			\n				\n				\n				\n				\n			\n				\n				\n			\nKirály IldikóSziasztok! Engem Király Ildikónak hívnak\, és közel egy évtizede foglalkozom festéssel. Majdnem 5 éve nyitottam meg élményfestő stúdiómat Dunakeszin\, ahol nap mint nap foglalkozok festeni vágyó\, lelkes emberekkel. A festés mellett jógaoktatással is foglalkozom. Úgy gondolom\, hogy ez a két terület rendkívül közel áll egymáshoz\, és nagyon jól ki is egészítik egymást. \nNézz szét eseményeim között\, ha van kedved eljönni festeni! 🙂
URL:https://www.elmenyfestes.com/esemeny/szerelmes-manok/
LOCATION:Katonadomb utca 11.\, Katonadomb utca 11.\, Dunakeszi\, 2011\, Magyarország
CATEGORIES:Festés,Gyerekeknek
ATTACH;FMTTYPE=image/png:https://www.elmenyfestes.com/wp-content/uploads/2025/01/szerelmes-manok.png
END:VEVENT
BEGIN:VEVENT
DTSTART;TZID=Europe/Paris:20260213T170000
DTEND;TZID=Europe/Paris:20260213T183000
DTSTAMP:20260425T022132
CREATED:20241224T095948Z
LAST-MODIFIED:20260118T162716Z
UID:4608-1771002000-1771007400@www.elmenyfestes.com
SUMMARY:Hóember a lámpa alatt
DESCRIPTION:8 készleten \n\n	\n	\n		\n		\n    \n                                    \n                    1                \n                            \n                    2                \n                            \n                    3                \n                            \n                    4                \n                            \n                    5                \n                        \n\n\n		Kosárba teszem\n\n			\n\n	\n\n				\n			\n			\n				\n				\n				\n				\n				\n				\n				\n				\n				\n				\n					\n					\n						\n						December 12 15:00 – 17:00 \n					\n				\n			\n				\n				\n				\n				\n				\n					\n					\n						\n						Gyerekeknek \n					\n				\n			\n				\n				\n				\n				\n				\n					\n					\n						\n						30x40cm \n					\n				\n			\n				\n				\n				\n				\n				\n					\n					\n						\n						2 óra \n					\n				\n			\n				\n				\n				\n				\n				\n					\n					\n						\n						9.800 Ft \n					\n				\n			\n				\n				\n				\n				\n				\n					\n					\n						\n						2120 Dunakeszi\, Katonadomb utca 11 \n					\n				\n			\n				\n				\n				\n				\n				Leírás \n			\n				\n				\n				\n				\n				Az élményfestés során a kicsik saját kezűleg alkothatnak egy színes és vidám hóembert. A festés közben a gyermeked fejlesztheti a kézügyességét\, a színfelismerését és a kreativitását. Az elkészült kép egy értékes emlék lesz\, amelyet büszkén kihelyezhettek a szobájába. \nMinden felszerelést bíztosítok!  \n\nKötényt\, ecsetet\nkézfertőtlenítőt\nbekészítek üditőket\, sütiket és pogácsát is.\n\nSzülőként akár te is csatlakozhatsz\, és részetek lehet egy szuper családi kikapcsolódásban. \n\nFeshetitek közösen egy vásznon\nVagy külön-külön\n\n			\n				További információk a gyermekfestésről\n			\n			\n				\n				\n				\n				\n			\n				\n				\n			\nKirály IldikóSziasztok! Engem Király Ildikónak hívnak\, és közel egy évtizede foglalkozom festéssel. Majdnem 5 éve nyitottam meg élményfestő stúdiómat Dunakeszin\, ahol nap mint nap foglalkozok festeni vágyó\, lelkes emberekkel. A festés mellett jógaoktatással is foglalkozom. Úgy gondolom\, hogy ez a két terület rendkívül közel áll egymáshoz\, és nagyon jól ki is egészítik egymást. \nNézz szét eseményeim között\, ha van kedved eljönni festeni! 🙂
URL:https://www.elmenyfestes.com/esemeny/hoember-2/
LOCATION:Katonadomb utca 11.\, Katonadomb utca 11.\, Dunakeszi\, 2011\, Magyarország
CATEGORIES:Gyerekeknek
ATTACH;FMTTYPE=image/jpeg:https://www.elmenyfestes.com/wp-content/uploads/2024/12/IMG_5172.jpeg
END:VEVENT
BEGIN:VEVENT
DTSTART;TZID=Europe/Paris:20260227T163000
DTEND;TZID=Europe/Paris:20260227T163000
DTSTAMP:20260425T022132
CREATED:20241223T111829Z
LAST-MODIFIED:20260119T185445Z
UID:4409-1772209800-1772209800@www.elmenyfestes.com
SUMMARY:Szivárvány oroszlán
DESCRIPTION:10 készleten \n\n	\n	\n		\n		\n    \n                                    \n                    1                \n                            \n                    2                \n                            \n                    3                \n                            \n                    4                \n                            \n                    5                \n                        \n\n\n		Kosárba teszem\n\n			\n\n	\n\n				\n			\n			\n				\n				\n				\n				\n				\n				\n				\n				\n				\n				\n					\n					\n						\n						Gyerekeknek \n					\n				\n			\n				\n				\n				\n				\n				\n					\n					\n						\n						40×50 cm \n					\n				\n			\n				\n				\n				\n				\n				\n					\n					\n						\n						5 óra \n					\n				\n			\n				\n				\n				\n				\n				\n					\n					\n						\n						12.490 Ft \n					\n				\n			\n				\n				\n				\n				\n				\n					\n					\n						\n						2120 Dunakeszi\, Katonadomb utca 11. \n					\n				\n			\n				\n				\n				\n				\n				Leírás \n			\n				\n				\n				\n				\n				Nem nehéz megfesteni\, inkább csak idő igényes a sörényét különbőző színekkel elkészíteni szálanként. Nagyon szerethető és borzasztóan élvezik a gyerekek. \nMinden felszerelést bíztosítok!  \n\nKötényt\, ecsetet\nkézfertőtlenítőt\nbekészítek üditőket\, sütiket és pogácsát is.\n\nSzülőként akár te is csatlakozhatsz\, és részetek lehet egy szuper családi kikapcsolódásban. \n\nFeshetitek közösen egy vásznon\nVagy külön-külön\n\n			\n				További információk a gyermekfestésről\n			\n			\n				\n				\n				\n				\n			\n				\n				\n			\nKirály IldikóSziasztok! Engem Király Ildikónak hívnak\, és közel egy évtizede foglalkozom festéssel. Majdnem 5 éve nyitottam meg élményfestő stúdiómat Dunakeszin\, ahol nap mint nap foglalkozok festeni vágyó\, lelkes emberekkel. A festés mellett jógaoktatással is foglalkozom. Úgy gondolom\, hogy ez a két terület rendkívül közel áll egymáshoz\, és nagyon jól ki is egészítik egymást. \nNézz szét eseményeim között\, ha van kedved eljönni festeni! 🙂
URL:https://www.elmenyfestes.com/esemeny/szivarvany-oroszlan/
LOCATION:Katonadomb utca 11.\, Katonadomb utca 11.\, Dunakeszi\, 2011\, Magyarország
CATEGORIES:Gyerekeknek
ATTACH;FMTTYPE=image/jpeg:https://www.elmenyfestes.com/wp-content/uploads/2024/12/szivarvany-oroszlan-borito.jpeg
END:VEVENT
BEGIN:VEVENT
DTSTART;TZID=Europe/Paris:20260228T150000
DTEND;TZID=Europe/Paris:20260228T170000
DTSTAMP:20260425T022132
CREATED:20250331T073341Z
LAST-MODIFIED:20260223T193538Z
UID:6282-1772290800-1772298000@www.elmenyfestes.com
SUMMARY:Pillangó virággal
DESCRIPTION:Tedd kosárba\, és hozd el gyermeked te is festeni! \n			\n				\n				\n				\n				\n				\n				\n				\n					10 készleten \n\n	\n	\n		\n		\n    \n                                    \n                    1                \n                            \n                    2                \n                            \n                    3                \n                            \n                    4                \n                            \n                    5                \n                        \n\n\n		Kosárba teszem\n\n			\n\n	\n\n				\n			\n			\n				\n				\n				\n				\n				\n				\n				\n				\n				\n				\n					\n					\n						\n						Gyerekeknek\n					\n				\n			\n				\n				\n				\n				\n				\n					\n					\n						\n						30x40cm \n					\n				\n			\n				\n				\n				\n				\n				\n					\n					\n						\n						1.5 óra \n					\n				\n			\n				\n				\n				\n				\n				\n					\n					\n						\n						9.800 Ft \n					\n				\n			\n				\n				\n				\n				\n				\n					\n					\n						\n						2120 Dunakeszi\, Magyar u. 8 \n					\n				\n			\n				\n				\n				\n				\n				Leírás\n			\n				\n				\n				\n				\n				Minden felszerelést bíztosítok!  \n\nKötényt\, ecsetet\nkézfertőtlenítőt\nbekészítek üditőket\, sütiket és pogácsát is.\n\nSzülőként akár te is csatlakozhatsz\, és részetek lehet egy szuper családi kikapcsolódásban\, ha te is megfested a képet gyermekeddel együtt – ilyenkor magadnak is kell jegyet foglalnod \n			\n				\n				\n				\n				\n				Festés menete: \nA kiválasztott festményt jól látható helyre ki fogom függeszteni mintának\, de a gyerekek eltérhetnek ettől a saját ízlésük szerint. A ti művetek mindig sokkal szebb 🙂 \nEgyütt fogunk haladni\, azaz én is elkezdem megfesteni a képet egy nagy állványon\, minden mozdulatot megmutatok\, így könnyen leutánozhatják és el tudják készíteni a saját képüket. Lehetősége van a gyerekeknek más színekkel is dolgozni\, hogy egy egyedi\, különleges képet alkothasson\, pont olyat ami neki tetszik. \nHa lemaradás\, vagy elakadás van\, megyek és segítek 🙂Mindenkinek sikerül befejezni a képet\, így biztos lehetsz benne\, hogy gyeremeked egy fülig érő mosollyal és egy remekművel fog távozni! \nA helyek száma korlátozott\, ezért kérlek\, jelentkezz be. \n(Az időpontban a változtatás jogát fenntartjuk! A festés elmaradása esetén az árat visszatérítjük. Megérteseteket köszönjük!) \n			\n				További információk a gyermekfestésről\n			\n			\n				\n				\n				\n				\n			\n				\n				\n			\nKirály IldikóSziasztok! Engem Király Ildikónak hívnak\, és közel egy évtizede foglalkozom festéssel. Majdnem 5 éve nyitottam meg élményfestő stúdiómat Dunakeszin\, ahol nap mint nap foglalkozok festeni vágyó\, lelkes emberekkel. A festés mellett jógaoktatással is foglalkozom. Úgy gondolom\, hogy ez a két terület rendkívül közel áll egymáshoz\, és nagyon jól ki is egészítik egymást. \nNézz szét eseményeim között\, ha van kedved eljönni festeni! 🙂
URL:https://www.elmenyfestes.com/esemeny/pillango-viraggal/
LOCATION:Katonadomb utca 11.\, Katonadomb utca 11.\, Dunakeszi\, 2011\, Magyarország
CATEGORIES:Gyerekeknek
ATTACH;FMTTYPE=image/png:https://www.elmenyfestes.com/wp-content/uploads/2025/03/pillango-es-virag.png
END:VEVENT
BEGIN:VEVENT
DTSTART;TZID=Europe/Paris:20260228T153000
DTEND;TZID=Europe/Paris:20260228T170000
DTSTAMP:20260425T022132
CREATED:20250817T130813Z
LAST-MODIFIED:20260227T095635Z
UID:6707-1772292600-1772298000@www.elmenyfestes.com
SUMMARY:Szines Madárka
DESCRIPTION:Tedd kosárba\, és hozd el gyermeked te is festeni! \n			\n				\n				\n				\n				\n				\n				\n				\n					\n	\n	\n		\n		\n    \n                                    \n                    1                \n                            \n                    2                \n                            \n                    3                \n                            \n                    4                \n                            \n                    5                \n                        \n\n\n		Kosárba teszem\n\n			\n\n	\n\n				\n			\n			\n				\n				\n				\n				\n				\n				\n				\n				\n				\n				\n					\n					\n						\n						Gyerekeknek\n					\n				\n			\n				\n				\n				\n				\n				\n					\n					\n						\n						50x40cm \n					\n				\n			\n				\n				\n				\n				\n				\n					\n					\n						\n						1.5 óra \n					\n				\n			\n				\n				\n				\n				\n				\n					\n					\n						\n						12.4900 Ft \n					\n				\n			\n				\n				\n				\n				\n				\n					\n					\n						\n						2120 Dunakeszi\, Katonadomb utca 11. \n					\n				\n			\n				\n				\n				\n				\n				Leírás\n			\n				\n				\n				\n				\n				A madárka elkészítése mindenki számára örömöt szerez. Ajándékozd gyermekednek egy élményfestést\, ahol ezt a színes madárkát festik meg a gyerekek is és a felnőttek is akár saját szin elképzelése szerint is megteheti! A szabadon választható színek garantáltan elnyeri majd tetszését mindenkinek! \nMinden felszerelést bíztosítok!  \n\nKötényt\, ecsetet\nkézfertőtlenítőt\nbekészítek üditőket\, sütiket és pogácsát is.\n\nSzülőként akár te is csatlakozhatsz\, és részetek lehet egy szuper családi kikapcsolódásban\, ha te is megfested a képet gyermekeddel együtt – ilyenkor magadnak is kell jegyet foglalnod \n			\n				\n				\n				\n				\n				Festés menete: \nA kiválasztott festményt jól látható helyre ki fogom függeszteni mintának\, de a gyerekek eltérhetnek ettől a saját ízlésük szerint. A ti művetek mindig sokkal szebb 🙂 \nEgyütt fogunk haladni\, azaz én is elkezdem megfesteni a képet egy nagy állványon\, minden mozdulatot megmutatok\, így könnyen leutánozhatják és el tudják készíteni a saját képüket. Lehetősége van a gyerekeknek más színekkel is dolgozni\, hogy egy egyedi\, különleges képet alkothasson\, pont olyat ami neki tetszik. \nHa lemaradás\, vagy elakadás van\, megyek és segítek 🙂Mindenkinek sikerül befejezni a képet\, így biztos lehetsz benne\, hogy gyeremeked egy fülig érő mosollyal és egy remekművel fog távozni! \nA helyek száma korlátozott\, ezért kérlek\, jelentkezz be. \n(Az időpontban a változtatás jogát fenntartjuk! A festés elmaradása esetén az árat visszatérítjük. Megérteseteket köszönjük!) \n			\n				További információk a gyermekfestésről\n			\n			\n				\n				\n				\n				\n			\n				\n				\n			\nKirály IldikóSziasztok! Engem Király Ildikónak hívnak\, és közel egy évtizede foglalkozom festéssel. Majdnem 5 éve nyitottam meg élményfestő stúdiómat Dunakeszin\, ahol nap mint nap foglalkozok festeni vágyó\, lelkes emberekkel. A festés mellett jógaoktatással is foglalkozom. Úgy gondolom\, hogy ez a két terület rendkívül közel áll egymáshoz\, és nagyon jól ki is egészítik egymást. \nNézz szét eseményeim között\, ha van kedved eljönni festeni! 🙂
URL:https://www.elmenyfestes.com/esemeny/szines-madarka/
LOCATION:Katonadomb utca 11.\, Katonadomb utca 11.\, Dunakeszi\, 2011\, Magyarország
CATEGORIES:Festés,Gyerekeknek
ATTACH;FMTTYPE=image/jpeg:https://www.elmenyfestes.com/wp-content/uploads/2024/10/IMG_1036.jpeg
END:VEVENT
END:VCALENDAR