BEGIN:VCALENDAR
VERSION:2.0
PRODID:-//Mosoyoga Dunakeszi - ECPv6.10.1.1//NONSGML v1.0//EN
CALSCALE:GREGORIAN
METHOD:PUBLISH
X-WR-CALNAME:Mosoyoga Dunakeszi
X-ORIGINAL-URL:https://www.elmenyfestes.com
X-WR-CALDESC:Events for Mosoyoga Dunakeszi
REFRESH-INTERVAL;VALUE=DURATION:PT1H
X-Robots-Tag:noindex
X-PUBLISHED-TTL:PT1H
BEGIN:VTIMEZONE
TZID:Europe/Paris
BEGIN:DAYLIGHT
TZOFFSETFROM:+0100
TZOFFSETTO:+0200
TZNAME:CEST
DTSTART:20260329T010000
END:DAYLIGHT
BEGIN:STANDARD
TZOFFSETFROM:+0200
TZOFFSETTO:+0100
TZNAME:CET
DTSTART:20261025T010000
END:STANDARD
END:VTIMEZONE
BEGIN:VEVENT
DTSTART;TZID=Europe/Paris:20260607T160000
DTEND;TZID=Europe/Paris:20260607T193000
DTSTAMP:20260425T021958
CREATED:20250328T135134Z
LAST-MODIFIED:20260406T061558Z
UID:4829-1780848000-1780860600@www.elmenyfestes.com
SUMMARY:Cápa
DESCRIPTION:Tedd kosárba\, és hozd el gyermeked te is festeni! \n			\n				\n				\n				\n				\n				\n				\n				\n					5 készleten \n\n	\n	\n		\n		\n    \n                                    \n                    1                \n                            \n                    2                \n                            \n                    3                \n                            \n                    4                \n                            \n                    5                \n                        \n\n\n		Kosárba teszem\n\n			\n\n	\n\n				\n			\n			\n				\n				\n				\n				\n				\n				\n				\n				\n				\n				\n					\n					\n						\n						Gyerekeknek \n					\n				\n			\n				\n				\n				\n				\n				\n					\n					\n						\n						40x50cm \n					\n				\n			\n				\n				\n				\n				\n				\n					\n					\n						\n						2.5 óra \n					\n				\n			\n				\n				\n				\n				\n				\n					\n					\n						\n						12.490 Ft \n					\n				\n			\n				\n				\n				\n				\n				\n					\n					\n						\n						2120 Dunakeszi\, Katonadomb u. 11. \n					\n				\n			\n				\n				\n				\n				\n				Leírás \n			\n				\n				\n				\n				\n				Gyerekeknek szívből ajánlom. Főleg a fiúk szeretik.  Nagyon könnyű megfesteni\, sokat nevetgélünk festés közben.\nFeszített vászonra akrilfestékkel készül.\nMegtanuljuk a tenger kék színárnyalatait kikeverni. Fehér\, fekete\, kék\, zöld színekből.\n7 éves kortól lehet jelentkezni.\nHa vízi témáról van szó\, a gyerekek egyszerűen megőrülnek. Ennek köszönhetően ez a veszélyes cápa az egyik legkedveltebb festményünk. \nMinden felszerelést bíztosítok!  \n\nKötényt\, ecsetet\nkézfertőtlenítőt\nbekészítek üditőket\, sütiket és pogácsát is.\n\nSzülőként akár te is csatlakozhatsz\, és részetek lehet egy szuper családi kikapcsolódásban. \n\nFeshetitek közösen egy vásznon\nVagy külön-külön\n\n			\n				\n				\n				\n				\n				Festés menete: \nA kiválasztott festményt jól látható helyre ki fogom függeszteni mintának\, de a gyerekek eltérhetnek ettől a saját ízlésük szerint. A ti művetek mindig sokkal szebb 🙂 \nEgyütt fogunk haladni\, azaz én is elkezdem megfesteni a képet egy nagy állványon\, minden mozdulatot megmutatok\, így könnyen leutánozhatják és el tudják készíteni a saját képüket. Lehetősége van a gyerekeknek más színekkel is dolgozni\, hogy egy egyedi\, különleges képet alkothasson\, pont olyat ami neki tetszik. \nHa lemaradás\, vagy elakadás van\, megyek és segítek 🙂Mindenkinek sikerül befejezni a képet\, így biztos lehetsz benne\, hogy gyeremeked egy fülig érő mosollyal és egy remekművel fog távozni! \nA helyek száma korlátozott\, ezért kérlek\, jelentkezz be. \nA kosár funkcio jelenleg a weboldalunkon nem használható ezért kérjük e-mailben jelentkezzen.\nírja meg a kiválasztott program időpontját hány fővel szeretnének részt venni a programon\, gyermek nevét életkorát\, szülö neve\, telefonszáma\, utaló neve\, címe és válasz levélben küldjük a banki adatokat és a részleteket. \n(Az időpontban a változtatás jogát fenntartjuk! A festés elmaradása esetén az árat visszatérítjük. Megérteseteket köszönjük! Élményfestők csapata) \n			\n				További információk a gyermekfestésről\n			\n			\n				\n				\n				\n				\n			\n				\n				\n			\nKirály IldikóSziasztok! Engem Király Ildikónak hívnak\, és közel egy évtizede foglalkozom festéssel. Majdnem 5 éve nyitottam meg élményfestő stúdiómat Dunakeszin\, ahol nap mint nap foglalkozok festeni vágyó\, lelkes emberekkel. A festés mellett jógaoktatással is foglalkozom. Úgy gondolom\, hogy ez a két terület rendkívül közel áll egymáshoz\, és nagyon jól ki is egészítik egymást. \nNézz szét eseményeim között\, ha van kedved eljönni festeni! 🙂
URL:https://www.elmenyfestes.com/esemeny/capa/
LOCATION:Katonadomb utca 11.\, Katonadomb utca 11.\, Dunakeszi\, 2011\, Magyarország
CATEGORIES:Gyerekeknek
ATTACH;FMTTYPE=image/png:https://www.elmenyfestes.com/wp-content/uploads/2025/03/Capa.png
END:VEVENT
BEGIN:VEVENT
DTSTART;VALUE=DATE:20260622
DTEND;VALUE=DATE:20260627
DTSTAMP:20260425T021958
CREATED:20250224T195400Z
LAST-MODIFIED:20260405T210054Z
UID:5887-1782086400-1782518399@www.elmenyfestes.com
SUMMARY:Lovas és festő tábor I.turnus
DESCRIPTION:Lovaglás és festés – egy igazi nyári élmény!\nIdén is megrendezésre kerül lovas élményfestő táborunk\, melyben várjuk a gyerekeket egy 5 napos nyári kalandra\, ahol elkéazítünk egy csodás lovas festménytfesteni\, lovagolni\, pancsolni\, mind ezt a friss nyári levegőn. \nNem csak festés fog fogunk\, hanem játékos gyermek gerinc jógáórákat  is lesznek\,sok mesével és dalokkal.   \nDélelőttönként zajlik a lovasoktatás\, lovaglás\, és a ló körüli tevékenységek. \nDélután egy finom meleg ebéd után várjuk a gyerekeket különféle izgalmas programok tárházával: \n\nJátékos és kikapcsoló jógaórákat tartunk\nGyönyörúszép képeket festünk – amihez nem szükséges festői tudás!\nPancsolás a medencében- hogy egy igazán jót hűsöljenek a gyerekek a nagy melegben\nEgy kis bolondos zoknicsata\nRendezünk egy szalmabála toló versenyt is!\n\n			\n				\n				\n				\n				\n				Kiknek ajánljuk nyári táborunkat?\n6-10 év közötti gyerekeknek akik rajonganak a pacik iránt\, valamint imádnak kreatívkodni és bohóckodni!  \nNem baj ha még nem volt tapasztalatuk a festéssel\, hiszen az élményfestés egyik szépsége az\, hogy nem szükséges semmi előzetes ismerettel rendelkeznie a résztvévőknek\, és így is mindenki el fogja tudni készíteni csodaszép festményeket!\nA kosár funkcio jelenleg a weboldalunkon nem  használható ezért kérjük e-mailben jelentkezzen.\nírja meg a kiválasztott program időpontját hány fővel szeretnének részt venni a programon\, gyermek nevét életkorát\, szülö neve\, telefonszáma\, utaló neve\, címe és válasz levélben küldjük a banki adatokat és a részleteket.\nMegértésüket köszönjük: Élményfestők csapata \n			\n			\n				\n				\n				\n				\n				\n				\n				\n				\n				\n				\n			\n			\n				\n				\n				\n				\n			\n				\n				\n				\n				\n				\n				\n				\n				\n				\n				\n				Vélemények \n			\n				\n				\n				\n				\n				 \n\n\n\n\n\n\n        \n            \n                                                \n\n                                        \n                        SlideLovas és élményfestő tábor 2in1 extra szolgáltatással. Lányom értékelése szerint 10\, azaz maximum pontot ér. Számunkra a legjobb párosítás volt a délelőtti lovaglás\, lovakkal való foglalkozás és a délutáni festés élménye. És az extra a nagy medencés fürdőzés minden nap\, ahonnan aztán nehéz volt kirobbantani a gyerekeket. Csodás\, nyugodt szép környezet\, tanyasi világ ahol szívesen maradtam volna én is minden nap. Biztos megyünk jövőre is\, illetve kipróbálunk más programokat is. 😊 \n— Nagy Anikó \nSlideKislányom alig akart hazamenni utolsó napon.\nMindenkinek csak ajánlani tudom. \n—Drahos  Dóra  \nSlideA lovas- élményfestő táborban a gyerekek nagyon jól érezték magukat. Nagyon megkedvelték az egyébként szelíd lovakat. Szuper élmény volt a festés is. Köszönjük! \n— Zsolt Gellén \n                    \n\n                                    \n            \n        \n         \n			\n			\n				\n				\n				\n				\n			\n				\n				\n				\n				\n				\n				\n				\n				\n				\n				\n				 \n\n\n\n\n        \n            \n                                                \n\n                                        \n                        festő tábor hero sectionvégeredmény 4festo tabor eredmeny4                    \n\n                                    \n            \n        \n         \n			\n			\n				\n				\n				\n				\n				\n				\n				\n				\n				\n				További információk\n			\n				\n				\n				\n				\n				\n					\n					\n						Helyszín\n						Göd Szálender tanya \n					\n				\n			\n				\n				\n				\n				\n				\n					\n					\n						Ár\n						A tábor díja 64.800 Ft. \n					\n				\n			\n				\n				\n				\n				\n				\n					\n					\n						Étkezés\n						Napi 3x étkezést biztosítunk – ebből 1x meleg ebédet\, valamint tízórai és uzsona \n					\n				\n			\n			\n				\n				\n				\n				\n			\n				\n				\n			\nKirály IldikóSziasztok! Engem Király Ildikónak hívnak\, és közel egy évtizede foglalkozom festéssel. Majdnem 5 éve nyitottam meg élményfestő stúdiómat Dunakeszin\, ahol nap mint nap foglalkozok festeni vágyó\, lelkes emberekkel. A festés mellett jógaoktatással is foglalkozom. Úgy gondolom\, hogy ez a két terület rendkívül közel áll egymáshoz\, és nagyon jól ki is egészítik egymást. \nNézz szét eseményeim között\, ha van kedved eljönni festeni! 🙂
URL:https://www.elmenyfestes.com/esemeny/lovas-elmenyfesto-tabor/
LOCATION:Göd Szálender dülő Lovas tanya\, Reki lovarda Szálender dülő\, Göd\, 2131\, Magyarország
CATEGORIES:Festés,Gyerekeknek,Tábor
ATTACH;FMTTYPE=image/jpeg:https://www.elmenyfestes.com/wp-content/uploads/2026/02/IMG_8850.jpeg
END:VEVENT
END:VCALENDAR