BEGIN:VCALENDAR
VERSION:2.0
PRODID:-//Mosoyoga Dunakeszi - ECPv6.10.1.1//NONSGML v1.0//EN
CALSCALE:GREGORIAN
METHOD:PUBLISH
X-ORIGINAL-URL:https://www.elmenyfestes.com
X-WR-CALDESC:Events for Mosoyoga Dunakeszi
REFRESH-INTERVAL;VALUE=DURATION:PT1H
X-Robots-Tag:noindex
X-PUBLISHED-TTL:PT1H
BEGIN:VTIMEZONE
TZID:Europe/Paris
BEGIN:DAYLIGHT
TZOFFSETFROM:+0100
TZOFFSETTO:+0200
TZNAME:CEST
DTSTART:20260329T010000
END:DAYLIGHT
BEGIN:STANDARD
TZOFFSETFROM:+0200
TZOFFSETTO:+0100
TZNAME:CET
DTSTART:20261025T010000
END:STANDARD
END:VTIMEZONE
BEGIN:VEVENT
DTSTART;TZID=Europe/Paris:20260111T140000
DTEND;TZID=Europe/Paris:20260111T160000
DTSTAMP:20260425T053136
CREATED:20250121T172433Z
LAST-MODIFIED:20251215T195111Z
UID:5218-1768140000-1768147200@www.elmenyfestes.com
SUMMARY:Téli róka
DESCRIPTION:Tedd kosárba\, és hozd el gyermeked te is festeni! \n			\n				\n				\n				\n				\n				\n				\n				\n					\n	\n	\n		\n		\n    \n                                    \n                    1                \n                            \n                    2                \n                            \n                    3                \n                            \n                    4                \n                            \n                    5                \n                        \n\n\n		Kosárba teszem\n\n			\n\n	\n\n				\n			\n			\n				\n				\n				\n				\n				\n				\n				\n				\n				\n				\n					\n					\n						\n						 14:00 – 16:00 \n					\n				\n			\n				\n				\n				\n				\n				\n					\n					\n						\n						Gyerekeknek\n					\n				\n			\n				\n				\n				\n				\n				\n					\n					\n						\n						50x40cm \n					\n				\n			\n				\n				\n				\n				\n				\n					\n					\n						\n						1.5 óra \n					\n				\n			\n				\n				\n				\n				\n				\n					\n					\n						\n						12.490 Ft \n					\n				\n			\n				\n				\n				\n				\n				\n					\n					\n						\n						2120 Dunakeszi\, Katonadomb utca 11. \n					\n				\n			\n				\n				\n				\n				\n				Leírás\n			\n				\n				\n				\n				\n				🎨 Téli Róka a Hóesésben – Élményfestés kicsiknek és nagyoknak! 🦊✨❄️ \nCsillogó hópelyhek\, csöndes téli este\, és egy kíváncsi kis róka\, aki épp a hóesés varázsát csodálja – ezt a hangulatot festjük meg együtt ezen a különleges élményfestésen! 🌙💫 \nNem baj\, ha még sosem festettél – mi lépésről lépésre segítünk\, hogy te is megalkosd a saját\, melegszívű téli csodádat.Gyerekek\, felnőttek\, családok – mindenkit várunk\, aki szeretne egy kis téli varázslatot és jókedvet ecsetre cserélni! 🎨💙 \nA végén pedig hazaviheted a saját rókás\, hópelyhes mesterművedet\, ami biztosan mosolyt csal majd az arcodra minden alkalommal\, ha ránézel! 😊🖌️ \nMinden felszerelést bíztosítok!  \n\nKötényt\, ecsetet\nkézfertőtlenítőt\nbekészítek üditőket\, sütiket és pogácsát is.\n\nSzülőként akár te is csatlakozhatsz\, és részetek lehet egy szuper családi kikapcsolódásban\, ha te is megfested a képet gyermekeddel együtt – ilyenkor magadnak is kell jegyet foglalnod \n			\n				\n				\n				\n				\n				Festés menete: \nA kiválasztott festményt jól látható helyre ki fogom függeszteni mintának\, de a gyerekek eltérhetnek ettől a saját ízlésük szerint. A ti művetek mindig sokkal szebb 🙂 \nEgyütt fogunk haladni\, azaz én is elkezdem megfesteni a képet egy nagy állványon\, minden mozdulatot megmutatok\, így könnyen leutánozhatják és el tudják készíteni a saját képüket. Lehetősége van a gyerekeknek más színekkel is dolgozni\, hogy egy egyedi\, különleges képet alkothasson\, pont olyat ami neki tetszik. \nHa lemaradás\, vagy elakadás van\, megyek és segítek 🙂Mindenkinek sikerül befejezni a képet\, így biztos lehetsz benne\, hogy gyeremeked egy fülig érő mosollyal és egy remekművel fog távozni! \nA helyek száma korlátozott\, ezért kérlek\, jelentkezz be. \n(Az időpontban a változtatás jogát fenntartjuk! A festés elmaradása esetén az árat visszatérítjük. Megérteseteket köszönjük!) \n			\n				További információk a gyermekfestésről\n			\n			\n				\n				\n				\n				\n			\n				\n				\n			\nKirály IldikóSziasztok! Engem Király Ildikónak hívnak\, és közel egy évtizede foglalkozom festéssel. Majdnem 5 éve nyitottam meg élményfestő stúdiómat Dunakeszin\, ahol nap mint nap foglalkozok festeni vágyó\, lelkes emberekkel. A festés mellett jógaoktatással is foglalkozom. Úgy gondolom\, hogy ez a két terület rendkívül közel áll egymáshoz\, és nagyon jól ki is egészítik egymást. \nNézz szét eseményeim között\, ha van kedved eljönni festeni! 🙂
URL:https://www.elmenyfestes.com/esemeny/teli-roka/
LOCATION:Katonadomb utca 11.\, Katonadomb utca 11.\, Dunakeszi\, 2011\, Magyarország
CATEGORIES:Gyerekeknek
ATTACH;FMTTYPE=image/jpeg:https://www.elmenyfestes.com/wp-content/uploads/2025/08/IMG_6627-scaled.jpg
END:VEVENT
BEGIN:VEVENT
DTSTART;TZID=Europe/Paris:20260111T160000
DTEND;TZID=Europe/Paris:20260111T180000
DTSTAMP:20260425T053137
CREATED:20250817T134803Z
LAST-MODIFIED:20251218T074301Z
UID:6716-1768147200-1768154400@www.elmenyfestes.com
SUMMARY:Róka a hóesésben
DESCRIPTION:Tedd kosárba\, és hozd el gyermeked te is festeni! \n			\n				\n				\n				\n				\n				\n				\n				\n					\n	\n	\n		\n		\n    \n                                    \n                    1                \n                            \n                    2                \n                            \n                    3                \n                            \n                    4                \n                            \n                    5                \n                        \n\n\n		Kosárba teszem\n\n			\n\n	\n\n				\n			\n			\n				\n				\n				\n				\n				\n				\n				\n				\n				\n				\n					\n					\n						\n						Január 11 (vasárnap) 16:00 – 18:30 \n					\n				\n			\n				\n				\n				\n				\n				\n					\n					\n						\n						Gyerekeknek\n					\n				\n			\n				\n				\n				\n				\n				\n					\n					\n						\n						50x40cm \n					\n				\n			\n				\n				\n				\n				\n				\n					\n					\n						\n						2 óra \n					\n				\n			\n				\n				\n				\n				\n				\n					\n					\n						\n						12.500 Ft \n					\n				\n			\n				\n				\n				\n				\n				\n					\n					\n						\n						2120 Dunakeszi\, Katonadomb utca 11. \n  \n					\n				\n			\n				\n				\n				\n				\n				Leírás\n			\n				\n				\n				\n				\n				🎨 Téli Róka a Hóesésben – Élményfestés kicsiknek és nagyoknak! 🦊✨❄️ \nCsillogó hópelyhek\, csöndes téli este\, és egy kíváncsi kis róka\, aki épp a hóesés varázsát csodálja – ezt a hangulatot festjük meg együtt ezen a különleges élményfestésen! 🌙💫 \nNem baj\, ha még sosem festettél – mi lépésről lépésre segítünk\, hogy te is megalkosd a saját\, melegszívű téli csodádat.Gyerekek\, felnőttek\, családok – mindenkit várunk\, aki szeretne egy kis téli varázslatot és jókedvet ecsetre cserélni! 🎨💙 \nA végén pedig hazaviheted a saját rókás\, hópelyhes mesterművedet\, ami biztosan mosolyt csal majd az arcodra minden alkalommal\, ha ránézel! 😊🖌️ \nMinden felszerelést bíztosítok!  \n\nKötényt\, ecsetet\nkézfertőtlenítőt\nbekészítek üditőket\, sütiket és pogácsát is.\n\nSzülőként akár te is csatlakozhatsz\, és részetek lehet egy szuper családi kikapcsolódásban\, ha te is megfested a képet gyermekeddel együtt – ilyenkor magadnak is kell jegyet foglalnod \n			\n				\n				\n				\n				\n				Festés menete: \nA kiválasztott festményt jól látható helyre ki fogom függeszteni mintának\, de a gyerekek eltérhetnek ettől a saját ízlésük szerint. A ti művetek mindig sokkal szebb 🙂 \nEgyütt fogunk haladni\, azaz én is elkezdem megfesteni a képet egy nagy állványon\, minden mozdulatot megmutatok\, így könnyen leutánozhatják és el tudják készíteni a saját képüket. Lehetősége van a gyerekeknek más színekkel is dolgozni\, hogy egy egyedi\, különleges képet alkothasson\, pont olyat ami neki tetszik. \nHa lemaradás\, vagy elakadás van\, megyek és segítek 🙂Mindenkinek sikerül befejezni a képet\, így biztos lehetsz benne\, hogy gyeremeked egy fülig érő mosollyal és egy remekművel fog távozni! \nA helyek száma korlátozott\, ezért kérlek\, jelentkezz be. \n(Az időpontban a változtatás jogát fenntartjuk! A festés elmaradása esetén az árat visszatérítjük. Megérteseteket köszönjük!) \n			\n				További információk a gyermekfestésről\n			\n			\n				\n				\n				\n				\n			\n				\n				\n			\nKirály IldikóSziasztok! Engem Király Ildikónak hívnak\, és közel egy évtizede foglalkozom festéssel. Majdnem 5 éve nyitottam meg élményfestő stúdiómat Dunakeszin\, ahol nap mint nap foglalkozok festeni vágyó\, lelkes emberekkel. A festés mellett jógaoktatással is foglalkozom. Úgy gondolom\, hogy ez a két terület rendkívül közel áll egymáshoz\, és nagyon jól ki is egészítik egymást. \nNézz szét eseményeim között\, ha van kedved eljönni festeni! 🙂
URL:https://www.elmenyfestes.com/esemeny/roka-a-hoesesben/
LOCATION:Katonadomb utca 11.\, Katonadomb utca 11.\, Dunakeszi\, 2011\, Magyarország
CATEGORIES:Festés,Gyerekeknek
ATTACH;FMTTYPE=image/jpeg:https://www.elmenyfestes.com/wp-content/uploads/2023/01/IMG_0281.jpg
END:VEVENT
END:VCALENDAR