BEGIN:VCALENDAR
VERSION:2.0
PRODID:-//Mosoyoga Dunakeszi - ECPv6.10.1.1//NONSGML v1.0//EN
CALSCALE:GREGORIAN
METHOD:PUBLISH
X-ORIGINAL-URL:https://www.elmenyfestes.com
X-WR-CALDESC:Events for Mosoyoga Dunakeszi
REFRESH-INTERVAL;VALUE=DURATION:PT1H
X-Robots-Tag:noindex
X-PUBLISHED-TTL:PT1H
BEGIN:VTIMEZONE
TZID:Europe/Paris
BEGIN:DAYLIGHT
TZOFFSETFROM:+0100
TZOFFSETTO:+0200
TZNAME:CEST
DTSTART:20260329T010000
END:DAYLIGHT
BEGIN:STANDARD
TZOFFSETFROM:+0200
TZOFFSETTO:+0100
TZNAME:CET
DTSTART:20261025T010000
END:STANDARD
END:VTIMEZONE
BEGIN:VEVENT
DTSTART;TZID=Europe/Paris:20260125T170000
DTEND;TZID=Europe/Paris:20260125T190000
DTSTAMP:20260425T053138
CREATED:20241223T114353Z
LAST-MODIFIED:20251218T075528Z
UID:4419-1769360400-1769367600@www.elmenyfestes.com
SUMMARY:Szivárvány erdő
DESCRIPTION:\n					\n						\n						Január 25. 17:00 – 19:30 \n					\n				\n			\n				\n				\n				\n				\n				\n					\n					\n						\n						Gyerekeknek \n					\n				\n			\n				\n				\n				\n				\n				\n					\n					\n						\n						30x40cm \n					\n				\n			\n				\n				\n				\n				\n				\n					\n					\n						\n						2.5 óra \n					\n				\n			\n				\n				\n				\n				\n				\n					\n					\n						\n						9800 Ft \n					\n				\n			\n				\n				\n				\n				\n				\n					\n					\n						\n						2120 Dunakeszi\, Katonadomb utca 11. \n					\n				\n			\n				\n				\n				\n				\n				Leírás \n			\n				\n				\n				\n				\n				Minden felszerelést bíztosítok!  \n\nKötényt\, ecsetet\nkézfertőtlenítőt\nbekészítek üditőket\, sütiket és pogácsát is.\n\nSzülőként akár te is csatlakozhatsz\, és részetek lehet egy szuper családi kikapcsolódásban\, ha te is megfested a képet gyermekeddel együtt – ilyenkor magadnak is kell jegyet foglalnod \n			\n				További információk a gyermekfestésről\n			\n			\n				\n				\n				\n				\n			\n				\n				\n			\nKirály IldikóSziasztok! Engem Király Ildikónak hívnak\, és közel egy évtizede foglalkozom festéssel. Majdnem 5 éve nyitottam meg élményfestő stúdiómat Dunakeszin\, ahol nap mint nap foglalkozok festeni vágyó\, lelkes emberekkel. A festés mellett jógaoktatással is foglalkozom. Úgy gondolom\, hogy ez a két terület rendkívül közel áll egymáshoz\, és nagyon jól ki is egészítik egymást. \nNézz szét eseményeim között\, ha van kedved eljönni festeni! 🙂
URL:https://www.elmenyfestes.com/esemeny/szivarvany-erdo/
LOCATION:MosoYOGA és Varázsló Festő Tanoda Művészeti Központ\, Magyar utca 8/a\, Dunakeszi\, Pest\, 2120\, Magyarország
CATEGORIES:Gyerekeknek
ATTACH;FMTTYPE=image/jpeg:https://www.elmenyfestes.com/wp-content/uploads/2024/12/szivarvany-erdo-borito.jpeg
END:VEVENT
BEGIN:VEVENT
DTSTART;TZID=Europe/Paris:20260125T170000
DTEND;TZID=Europe/Paris:20260125T190000
DTSTAMP:20260425T053138
CREATED:20241223T122032Z
LAST-MODIFIED:20251129T072915Z
UID:4447-1769360400-1769367600@www.elmenyfestes.com
SUMMARY:Hinta
DESCRIPTION:Tedd kosárba és alkosd meg te is! \n			\n				\n				\n				\n				\n				\n				\n				\n					6 készleten \n\n	\n	\n		\n		\n    \n                                    \n                    1                \n                            \n                    2                \n                            \n                    3                \n                            \n                    4                \n                            \n                    5                \n                        \n\n\n		Kosárba teszem\n\n			\n\n	\n\n				\n			\n			\n				\n				\n				\n				\n				\n				\n				\n				\n				\n				\n					\n					\n						\n						Felnőtteknek és gyerekeknek \n					\n				\n			\n				\n				\n				\n				\n				\n					\n					\n						\n						30x40cm \n					\n				\n			\n				\n				\n				\n				\n				\n					\n					\n						\n						3 óra\n					\n				\n			\n				\n				\n				\n				\n				\n					\n					\n						\n						9.800 Ft \n					\n				\n			\n				\n				\n				\n				\n				\n					\n					\n						\n						2120 Dunakeszi\, Katonadomb u. 11 \n					\n				\n			\n				\n				\n				\n				\n				Leírás\n			\n				\n				\n				\n				\n				Minden felszerelést bíztosítok!  \n\nKötényt\, ecsetet\nkézfertőtlenítőt\nbekészítek üditőket\, sütiket és pogácsát is.\n\n			\n				\n				\n				\n				\n				Ha már elmultál 18 éves\, egy pohár borral is megkínállak. Neked csak a jó kedvedet kell hoznod! \nPrivát festés: \nEgy egyéni festésen csak te\, és akiket elhívsz lesznek jelen. Ha szeretnéd ezt a képet saját keretek közt megfesteni\, akkor kérlek vedd fel velünk a kapcsolatot! \nAkril festék tudnivalók \nAz akrilfesték vízzel hígítható\, szagtalan festék\, de műanyagra keményedik ha megszárad.Nagy előnye\, hogy nem fog leázni és nem kopik meg a színe\, jó pár év múlva is megőrzi eredeti fényét.Allergén mentes\, bárki használhatja\, kisgyermekek és kismamák is.A ruhádból frissen még kijön\, rászáradva sajnos már nem\, ezért érdemes olyan öltözéket választani\, amit nem sajnálsz. \nFestés menete: \nA kiválasztott festményt jól látható helyre ki fogom függeszteni mintának\, de ettől te eltérhetsz a saját ízlésed szerint. A te saját műved mindig sokkal szebb.Együtt fogunk haladni\, azaz én is elkezdem megfesteni a képet egy nagy állványon\, minden mozdulatot megmutatok\, így könnyen leutánozhatod és el tudod készíteni a saját képedet. Lehetőséged van más színeket is kérni\, hogy egy egyedi\, különleges képet alkothass.Ha lemaradsz vagy elakadsz\, akkor sincs semmi gond\, szólsz nekem\, és szívesen segítek.Mindenkinek sikerül befejezni a képet\, így biztos lehetsz benne\, hogy neked is sikerülni fog egy remekművet alkotni. \nA helyek száma korlátozott\, ezért kérlek\, jelentkezz be. \n(Az időpontban a változtatás jogát fenntartjuk! A festés elmaradása esetén az árat visszatérítjük. Megérteseteket köszönjük!) \n			\n			\n				\n				\n				\n				\n			\n				\n				\n				\n				\n				\n				\n				\n				\n				\n				\n				 	\n                \n                \n                \n                \n                \n                \n									03\n									május\n									2026\n									\n									\n                Páros Festés Szivárvány erdő\n                    Tedd kosárba\, és hozd el gyermeked te is festeni!Gyerekeknek 50x40cm1.5-3 óranagyvászon 12490/fő Kisvászon 9800/fő Ft2120 Dunakeszi\, Katonadomb utca 11Leírás A szivárvány erdő könnyű és szorakoztató anya- lánya program. Ez a […] \n\n                      Find out more\n                      \n                \n                \n                \n                \n                \n                \n									07\n									június\n									2026\n									\n									\n                Cápa\n                    Tedd kosárba\, és hozd el gyermeked te is festeni!Gyerekeknek40x50cm2.5 óra12.490 Ft2120 Dunakeszi\, Katonadomb u. 11.LeírásGyerekeknek szívből ajánlom. Főleg a fiúk szeretik.  Nagyon könnyű megfesteni\, sokat nevetgélünk festés közben. Feszített vászonra […] \n\n                      Find out more\n                      \n                \n                \n                \n                \n                \n                \n									22\n									június\n									2026\n									\n									\n                Lovas és festő tábor I.turnus\n                    Lovaglás és festés - egy igazi nyári élmény! Idén is megrendezésre kerül lovas élményfestő táborunk\, melyben várjuk a gyerekeket egy 5 napos nyári kalandra\, ahol elkéazítünk egy csodás lovas festménytfesteni\, […] \n\n                      Find out more\n                      \n                \n                \n                \n                \n                \n                \n									29\n									június\n									2026\n									\n									\n                3D nyomtató kreatív nyári napközi\n                    3D Nyomtató Nyári napközi- Alkoss a jövőből egy darabot! Több mint képernyőidő – alkotás\, élmény\, fejlődés egy héten át… A nyári táborunkban a gyerekek nem egész nap a számítógép előtt […] \n\n                      Find out more\n                      \n                \n                \n                \n                \n                \n                \n									30\n									június\n									2026\n									\n									\n                Szülinapi Élményfestés\n                    Tedd kosárba\, és hozd el gyermeked te is festeni!Gyerekeknek 30x40cm 2\,5 óra9.800 Ft 2120 Dunakeszi\, Katonadomb u. 11.Leírás BOLDOG SZÜLETÉSNAPOT!Különleges születésnapra vágysz!?Élmény festés szülinapi bulival és vicces kutyabemutatóval összekötve.Boldog születésnapotkívánok […] \n\n                      Find out more\n                      \n                \n                \n                \n                \n                \n                \n									13\n									július\n									2026\n									\n									\n                Tánc-Festő nyári napközi I.turnus\n                    Nyári tánctábor gyerekeknek! Kacagós Táncos nyári szünet garantált!   Szeretnél modern táncot tanulni\, szuper zenékre?   Szeretnél sokat lenni a szabadban\, nevetgélni és új barátokat szerezni?   Itt a helyed! […] \n\n                      Find out more\n                      \n                \n                \n                \n                \n                \n                \n									13\n									július\n									2026\n									\n									\n                Lovas és festő tábor II.turnus\n                    Lovaglás és festés - egy igazi nyári élmény! Idén is megrendezésre kerül lovas élményfestő táborunk\, melyben várjuk a gyerekeket egy 5 napos nyári kalandra\, ahol rengeteget fognak festeni\, lovagolni\, pancsolni\, […] \n\n                      Find out more\n                      \n                \n                \n                \n                \n                \n                \n									20\n									július\n									2026\n									\n									\n                Bűvész tábor\n                    Egy tábor tele varázslattal A bűvész táborunkban gyeremeked egy csodás hetet tölt majd el a Dunakeszi Katonadombon \, miközben betekinthet a bűvésztrükkök kulisszái mögé! A bűvésztrükkök finom mozdulatokat igényelnek\, így […] \n\n                      Find out more\n                      \n                \n                \n                \n                \n                \n                \n									27\n									július\n									2026\n									\n									\n                Tánc tábor II. turnus Julis 27-31.\n                    Nyári tánctábor gyerekeknek! Kacagós Táncos nyári szünet garantált!   Szeretnél modern táncot tanulni\, szuper zenékre?   Szeretnél sokat lenni a szabadban\, nevetgélni és új barátokat szerezni?   Itt a helyed! […] \n\n                      Find out more\n                      \n                \n                \n                \n                \n                \n                \n									03\n									augusztus\n									2026\n									\n									\n                Kézműves – augusztus 3-7.\n                    Festés és kézműveskedés 5 napon át Idén is megrendezésre kerül a táborunk\, melyben várjuk a gyerekeket egy 5 napos nyári kalandra\, ahol rengeteget fognak festeni\, 3D rajztechnikákat tanulni és szórakozni! […] \n\n                      Find out more\n                      \n			\n			\n				\n				\n				\n				\n			\n				\n				\n			\nKirály IldikóSziasztok! Engem Király Ildikónak hívnak\, és közel egy évtizede foglalkozom festéssel. Majdnem 5 éve nyitottam meg élményfestő stúdiómat Dunakeszin\, ahol nap mint nap foglalkozok festeni vágyó\, lelkes emberekkel. A festés mellett jógaoktatással is foglalkozom. Úgy gondolom\, hogy ez a két terület rendkívül közel áll egymáshoz\, és nagyon jól ki is egészítik egymást. \nNézz szét eseményeim között\, ha van kedved eljönni festeni! 🙂
URL:https://www.elmenyfestes.com/esemeny/hinta/
LOCATION:Katonadomb utca 11.\, Katonadomb utca 11.\, Dunakeszi\, 2011\, Magyarország
CATEGORIES:Felnőtteknek,Gyerekeknek
ATTACH;FMTTYPE=image/jpeg:https://www.elmenyfestes.com/wp-content/uploads/2024/12/hinta-1.jpg
END:VEVENT
END:VCALENDAR