BEGIN:VCALENDAR
VERSION:2.0
PRODID:-//Mosoyoga Dunakeszi - ECPv6.10.1.1//NONSGML v1.0//EN
CALSCALE:GREGORIAN
METHOD:PUBLISH
X-ORIGINAL-URL:https://www.elmenyfestes.com
X-WR-CALDESC:Events for Mosoyoga Dunakeszi
REFRESH-INTERVAL;VALUE=DURATION:PT1H
X-Robots-Tag:noindex
X-PUBLISHED-TTL:PT1H
BEGIN:VTIMEZONE
TZID:Europe/Paris
BEGIN:DAYLIGHT
TZOFFSETFROM:+0100
TZOFFSETTO:+0200
TZNAME:CEST
DTSTART:20260329T010000
END:DAYLIGHT
BEGIN:STANDARD
TZOFFSETFROM:+0200
TZOFFSETTO:+0100
TZNAME:CET
DTSTART:20261025T010000
END:STANDARD
END:VTIMEZONE
BEGIN:VEVENT
DTSTART;TZID=Europe/Paris:20260130T170000
DTEND;TZID=Europe/Paris:20260130T190000
DTSTAMP:20260425T035332
CREATED:20241225T085107Z
LAST-MODIFIED:20251224T105011Z
UID:4614-1769792400-1769799600@www.elmenyfestes.com
SUMMARY:Esti téli havas kép
DESCRIPTION:Tedd kosárba\, és hozd el gyermeked te is festeni! \n  \n			\n				\n				\n				\n				\n				\n				\n				\n					8 készleten \n\n	\n	\n		\n		\n    \n                                    \n                    1                \n                            \n                    2                \n                            \n                    3                \n                            \n                    4                \n                            \n                    5                \n                        \n\n\n		Kosárba teszem\n\n			\n\n	\n\n				\n			\n			\n				\n				\n				\n				\n				\n				\n				\n				\n				\n				\n					\n					\n						\n						\n					\n				\n			\n				\n				\n				\n				\n				\n					\n					\n						\n						Gyerekeknek \n					\n				\n			\n				\n				\n				\n				\n				\n					\n					\n						\n						50x40cm\n					\n				\n			\n				\n				\n				\n				\n				\n					\n					\n						\n						2 óra \n					\n				\n			\n				\n				\n				\n				\n				\n					\n					\n						\n						12.800 Ft \n					\n				\n			\n				\n				\n				\n				\n				\n					\n					\n						\n						2120 Dunakeszi\, Katonadomb utca 11 \n					\n				\n			\n				\n				\n				\n				\n				Leírás \n			\n				\n				\n				\n				\n				Téli Havas kép Hóemberrel és hintázós kislánnyal – Élményfestés kicsiknek és nagyoknak!  \nCsillogó hópelyhek\, csöndes téli este\, és egy kislány a hintán aki épp a hóesés varázsát csodálja\, kedvenc kis kutyájával vagy cicuskájával (ez te a festés előtt eldöntheted és én azt rajzolom meg neked amit te szeretnél) – ezt a hangulatot festjük meg együtt ezen a különleges élményfestésen!  \nNem baj\, ha még sosem festettél – én  lépésről lépésre segítek\, hogy te is megalkosd a saját\, melegszívű téli csodádat.\nGyerekek\, felnőttek\, családok – mindenkit várunk\, aki szeretne egy kis téli varázslatot és jókedvet ecsetre cserélni!  \nA végén pedig hazaviheted a saját\, hópelyhes mesterművedet\, ami biztosan mosolyt csal majd az arcodra minden alkalommal\, ha ránézel!\nAz élményfestés során a kicsik saját kezűleg alkothatnak egy színes és vidám esti képet amin van egy hóember és egy hintázó kislány a kedvencével\, ami lehet kutyus vagy cicus is\, ez szabadon választható. A festés közben a gyermeked fejlesztheti a kézügyességét\, a színfelismerését és a kreativitását. Az elkészült kép egy értékes emlék lesz\, amelyet büszkén kihelyezhettek a szobájába! \nMinden felszerelést bíztosítok!  \n\nKötényt\, ecsetet\nkézfertőtlenítőt\nbekészítek üditőket\, sütiket és pogácsát is.\n\nSzülőként akár te is csatlakozhatsz\, és részetek lehet egy szuper családi kikapcsolódásban\, ha te is megfested a képet gyermekeddel együtt – ilyenkor magadnak is kell jegyet foglalnod \n  \n			\n				\n				\n				\n				\n				Festés menete: \nA kiválasztott festményt jól látható helyre ki fogom függeszteni mintának\, de a gyerekek eltérhetnek ettől a saját ízlésük szerint. A ti művetek mindig sokkal szebb 🙂 \nEgyütt fogunk haladni\, azaz én is elkezdem megfesteni a képet egy nagy állványon\, minden mozdulatot megmutatok\, így könnyen leutánozhatják és el tudják készíteni a saját képüket. Lehetősége van a gyerekeknek más színekkel is dolgozni\, hogy egy egyedi\, különleges képet alkothasson\, pont olyat ami neki tetszik. \nHa lemaradás\, vagy elakadás van\, megyek és segítek 🙂Mindenkinek sikerül befejezni a képet\, így biztos lehetsz benne\, hogy gyeremeked egy fülig érő mosollyal és egy remekművel fog távozni! \nA helyek száma korlátozott\, ezért kérlek\, jelentkezz be. \n(Az időpontban a változtatás jogát fenntartjuk! A festés elmaradása esetén az árat visszatérítjük. Megérteseteket köszönjük!) \n			\n				További információk a gyermekfestésről\n			\n			\n				\n				\n				\n				\n			\n				\n				\n				\n				\n				\n				\n				\n				\n				\n				\n				 	There are no upcoming events at this time. \n			\n			\n				\n				\n				\n				\n			\n				\n				\n			\nKirály IldikóSziasztok! Engem Király Ildikónak hívnak\, és közel egy évtizede foglalkozom festéssel. Majdnem 5 éve nyitottam meg élményfestő stúdiómat Dunakeszin\, ahol nap mint nap foglalkozok festeni vágyó\, lelkes emberekkel. A festés mellett jógaoktatással is foglalkozom. Úgy gondolom\, hogy ez a két terület rendkívül közel áll egymáshoz\, és nagyon jól ki is egészítik egymást. \nNézz szét eseményeim között\, ha van kedved eljönni festeni! 🙂
URL:https://www.elmenyfestes.com/esemeny/esti-teli-havas-kep/
LOCATION:Katonadomb utca 11.\, Katonadomb utca 11.\, Dunakeszi\, 2011\, Magyarország
CATEGORIES:Gyerekeknek
ATTACH;FMTTYPE=image/jpeg:https://www.elmenyfestes.com/wp-content/uploads/2024/12/IMG_6238.jpeg
END:VEVENT
END:VCALENDAR